BEGIN:VCALENDAR
VERSION:2.0
PRODID:-//ChamberMaster//Event Calendar 2.0//EN
METHOD:PUBLISH
X-PUBLISHED-TTL:P3D
REFRESH-INTERVAL:P3D
CALSCALE:GREGORIAN
BEGIN:VEVENT
DTSTART:20131114T153000Z
DTEND:20131114T163000Z
X-MICROSOFT-CDO-ALLDAYEVENT:FALSE
SUMMARY:Business Before Hours
DESCRIPTION:
X-ALT-DESC;FMTTYPE=text/html:
LOCATION:Bank of the West (McHenry) 3600 McHenry Avenue Modesto\, CA 95356
UID:e.2695.237
SEQUENCE:3
DTSTAMP:20260423T102746Z
URL:https://business.modchamber.org/events/details/business-before-hours-11-14-2013-237
END:VEVENT

END:VCALENDAR
