BEGIN:VCALENDAR
VERSION:2.0
PRODID:-//ChamberMaster//Event Calendar 2.0//EN
METHOD:PUBLISH
X-PUBLISHED-TTL:P3D
REFRESH-INTERVAL:P3D
CALSCALE:GREGORIAN
BEGIN:VEVENT
DTSTART:20131010T143000Z
DTEND:20131010T153000Z
X-MICROSOFT-CDO-ALLDAYEVENT:FALSE
SUMMARY:Business Before Hours
DESCRIPTION:
X-ALT-DESC;FMTTYPE=text/html:
LOCATION:Union Bank 1124 J Street Modesto\, CA 95354
UID:e.2695.236
SEQUENCE:3
DTSTAMP:20260423T115001Z
URL:https://business.modchamber.org/events/details/business-before-hours-10-10-2013-236
END:VEVENT

END:VCALENDAR
