BEGIN:VCALENDAR
VERSION:2.0
PRODID:-//ChamberMaster//Event Calendar 2.0//EN
METHOD:PUBLISH
X-PUBLISHED-TTL:P3D
REFRESH-INTERVAL:P3D
CALSCALE:GREGORIAN
BEGIN:VEVENT
DTSTART:20130912T143000Z
DTEND:20130912T153000Z
X-MICROSOFT-CDO-ALLDAYEVENT:FALSE
SUMMARY:Business Before Hours
DESCRIPTION:
X-ALT-DESC;FMTTYPE=text/html:
LOCATION:TSM Insurance & Financial Services 1701 Coffee Road\, Suite 2 Modesto\, CA 95355
UID:e.2695.235
SEQUENCE:3
DTSTAMP:20260423T144157Z
URL:https://business.modchamber.org/events/details/business-before-hours-09-12-2013-235
END:VEVENT

END:VCALENDAR
