BEGIN:VCALENDAR
VERSION:2.0
PRODID:-//ChamberMaster//Event Calendar 2.0//EN
METHOD:PUBLISH
X-PUBLISHED-TTL:P3D
REFRESH-INTERVAL:P3D
CALSCALE:GREGORIAN
BEGIN:VEVENT
DTSTART:20140911T143000Z
DTEND:20140911T153000Z
X-MICROSOFT-CDO-ALLDAYEVENT:FALSE
SUMMARY:Business Before Hours
DESCRIPTION:Intrinsic Elements "Where Bling Meets Bliss"\nA local boutique consisting of mindful\, spiritual\, unusual gift items. From crystals\, stones\, essential oils\, sage and other smudging items\, to costume and conscious living jewelry items\, bling tees\, tanks and sweats\, something for virtually everyone on your gift giving list. We also strive to inform and educate those interested in mindful\, conscious living and stock items from many various religions and beliefs...we are a spiritual center for any faith to find supportive books\, gifts and healing items.
X-ALT-DESC;FMTTYPE=text/html:Intrinsic Elements "Where Bling Meets Bliss"\nA local boutique consisting of mindful\, spiritual\, unusual gift items. From crystals\, stones\, essential oils\, sage and other smudging items\, to costume and conscious living jewelry items\, bling tees\, tanks and sweats\, something for virtually everyone on your gift giving list. We also strive to inform and educate those interested in mindful\, conscious living and stock items from many various religions and beliefs...we are a spiritual center for any faith to find supportive books\, gifts and healing items.
LOCATION:Intrinsic Elements 1214 J Street Modesto\, CA 95354
UID:e.2695.526
SEQUENCE:3
DTSTAMP:20260422T180302Z
URL:https://business.modchamber.org/events/details/business-before-hours-09-11-2014-526
END:VEVENT

END:VCALENDAR
