BEGIN:VCALENDAR
VERSION:2.0
PRODID:-//ChamberMaster//Event Calendar 2.0//EN
METHOD:PUBLISH
X-PUBLISHED-TTL:P3D
REFRESH-INTERVAL:P3D
CALSCALE:GREGORIAN
BEGIN:VEVENT
DTSTART:20140710T143000Z
DTEND:20140710T153000Z
X-MICROSOFT-CDO-ALLDAYEVENT:FALSE
SUMMARY:Business Before Hours
DESCRIPTION:
X-ALT-DESC;FMTTYPE=text/html:
LOCATION:NAI Benchmark 1031 15th Street\, Suite 4 Modesto\, CA 95354
UID:e.2695.488
SEQUENCE:3
DTSTAMP:20260422T223629Z
URL:https://business.modchamber.org/events/details/business-before-hours-07-10-2014-488
END:VEVENT

END:VCALENDAR
