BEGIN:VCALENDAR
VERSION:2.0
PRODID:-//ChamberMaster//Event Calendar 2.0//EN
METHOD:PUBLISH
X-PUBLISHED-TTL:P3D
REFRESH-INTERVAL:P3D
CALSCALE:GREGORIAN
BEGIN:VEVENT
DTSTART:20140508T143000Z
DTEND:20140508T153000Z
X-MICROSOFT-CDO-ALLDAYEVENT:FALSE
SUMMARY:Business Before Hours
DESCRIPTION:
X-ALT-DESC;FMTTYPE=text/html:
LOCATION:Data Path\, Inc. 318 McHenry Avenue Modesto\, CA 95350
UID:e.2695.383
SEQUENCE:3
DTSTAMP:20260423T013237Z
URL:https://business.modchamber.org/events/details/business-before-hours-05-08-2014-383
END:VEVENT

END:VCALENDAR
