BEGIN:VCALENDAR
VERSION:2.0
PRODID:-//ChamberMaster//Event Calendar 2.0//EN
METHOD:PUBLISH
X-PUBLISHED-TTL:P3D
REFRESH-INTERVAL:P3D
CALSCALE:GREGORIAN
BEGIN:VEVENT
DTSTART:20140213T153000Z
DTEND:20140213T163000Z
X-MICROSOFT-CDO-ALLDAYEVENT:FALSE
SUMMARY:Business Before Hours
DESCRIPTION:
X-ALT-DESC;FMTTYPE=text/html:
LOCATION:Massage Envy Spa Modesto Briggsmore 2001 McHenry Avenue\, Suite L Modesto\, CA 95350
UID:e.2695.365
SEQUENCE:3
DTSTAMP:20260423T060415Z
URL:https://business.modchamber.org/events/details/business-before-hours-02-13-2014-365
END:VEVENT

END:VCALENDAR
