BEGIN:VCALENDAR
VERSION:2.0
PRODID:-//ChamberMaster//Event Calendar 2.0//EN
METHOD:PUBLISH
X-PUBLISHED-TTL:P3D
REFRESH-INTERVAL:P3D
CALSCALE:GREGORIAN
BEGIN:VEVENT
DTSTART:20141121T013000Z
DTEND:20141121T033000Z
X-MICROSOFT-CDO-ALLDAYEVENT:FALSE
SUMMARY:Business After Hours - SOS Club
DESCRIPTION:Enjoy showcasing your business to 100+ Chamber colleagues in an after hours environment. Create a relaxing yet informative evening to introduce your business and create a business networking opportunity. Held from 5:30 pm – 7:30 pm\, the third Thursday of the month\, Business After Hours is one of the Modesto Chamber’s longest and most sought after events.\nCall Lynda Jost at 209.577.5757 to get your date reserved.Sponsorship Investment: $300\nSponsorship Includes:Company logo on invitation flyer tailored to your organizationCompany name on all press releasesCompany name and logo included on weekly Chamber Happenings emailPre-event announcements at Chamber eventsCompany name included on Chamber websitePost-event recognition in ProgressChamber volunteers to work the event\nThe host of each Business After Hours is responsible for providing:The location to accommodate 100 attendeesHors d’oeuvresBeveragesDoor Prize
X-ALT-DESC;FMTTYPE=text/html:<P style="BORDER-RIGHT: 0px\; PADDING-RIGHT: 0px\; BORDER-TOP: 0px\; PADDING-LEFT: 0px\; BACKGROUND: rgb(255\,255\,255)\; PADDING-BOTTOM: 0px\; MARGIN: 0px 0px 18px\; WORD-SPACING: 0px\; FONT: 13px/23px Arial\, Helvetica\, Tahoma\, san-serif\; VERTICAL-ALIGN: baseline\; TEXT-TRANSFORM: none\; BORDER-LEFT: 0px\; COLOR: rgb(0\,0\,0)\; TEXT-INDENT: 0px\; PADDING-TOP: 0px\; BORDER-BOTTOM: 0px\; WHITE-SPACE: normal\; LETTER-SPACING: normal\; orphans: auto\; widows: auto\; -webkit-text-stroke-width: 0px">Enjoy showcasing your business to 100+ Chamber colleagues in an after hours environment. Create a relaxing yet informative evening to introduce your business and create a business networking opportunity. Held from 5:30 pm – 7:30 pm\, the third Thursday of the month\, Business After Hours is one of the Modesto Chamber’s longest and most sought after events.<BR>Call<SPAN class=Apple-converted-space>&nbsp\;</SPAN><SPAN style="BORDER-RIGHT: 0px\; PADDING-RIGHT: 0px\; BORDER-TOP: 0px\; PADDING-LEFT: 0px\; BACKGROUND: none transparent scroll repeat 0% 0%\; PADDING-BOTTOM: 0px\; MARGIN: 0px\; VERTICAL-ALIGN: baseline\; BORDER-LEFT: 0px\; COLOR: rgb(0\,0\,255)\; PADDING-TOP: 0px\; BORDER-BOTTOM: 0px\; TEXT-DECORATION: underline"><A style="BORDER-RIGHT: 0px\; PADDING-RIGHT: 0px\; BORDER-TOP: 0px\; PADDING-LEFT: 0px\; BACKGROUND: none transparent scroll repeat 0% 0%\; PADDING-BOTTOM: 0px\; MARGIN: 0px\; VERTICAL-ALIGN: baseline\; BORDER-LEFT: 0px\; COLOR: rgb(0\,43\,127)\; PADDING-TOP: 0px\; BORDER-BOTTOM: 0px\; TEXT-DECORATION: none" href="mailto:LJost@ModChamber.org"><SPAN style="BORDER-RIGHT: 0px\; PADDING-RIGHT: 0px\; BORDER-TOP: 0px\; PADDING-LEFT: 0px\; BACKGROUND: none transparent scroll repeat 0% 0%\; PADDING-BOTTOM: 0px\; MARGIN: 0px\; VERTICAL-ALIGN: baseline\; BORDER-LEFT: 0px\; COLOR: rgb(0\,0\,255)\; PADDING-TOP: 0px\; BORDER-BOTTOM: 0px\; TEXT-DECORATION: underline">Lynda Jost</SPAN></A></SPAN><SPAN class=Apple-converted-space>&nbsp\;</SPAN>at 209.577.5757 to get your date reserved.</P><DIV class=su-divider-solid style="CLEAR: both\; PADDING-RIGHT: 0px\; BORDER-TOP: rgb(221\,221\,221) 1px solid\; PADDING-LEFT: 0px\; BORDER-LEFT-WIDTH: 0px\; BACKGROUND: rgb(255\,255\,255)\; BORDER-BOTTOM-WIDTH: 0px\; PADDING-BOTTOM: 0px\; MARGIN: 1.5em 0px\; WORD-SPACING: 0px\; FONT: 13px/23px Arial\, Helvetica\, Tahoma\, san-serif\; VERTICAL-ALIGN: baseline\; TEXT-TRANSFORM: none\; COLOR: rgb(0\,0\,0)\; TEXT-INDENT: 0px\; PADDING-TOP: 0px\; WHITE-SPACE: normal\; LETTER-SPACING: normal\; HEIGHT: 0px\; BORDER-RIGHT-WIDTH: 0px\; orphans: auto\; widows: auto\; -webkit-text-stroke-width: 0px"></DIV><P style="BORDER-RIGHT: 0px\; PADDING-RIGHT: 0px\; BORDER-TOP: 0px\; PADDING-LEFT: 0px\; BACKGROUND: rgb(255\,255\,255)\; PADDING-BOTTOM: 0px\; MARGIN: 0px 0px 18px\; WORD-SPACING: 0px\; FONT: 13px/23px Arial\, Helvetica\, Tahoma\, san-serif\; VERTICAL-ALIGN: baseline\; TEXT-TRANSFORM: none\; BORDER-LEFT: 0px\; COLOR: rgb(0\,0\,0)\; TEXT-INDENT: 0px\; PADDING-TOP: 0px\; BORDER-BOTTOM: 0px\; WHITE-SPACE: normal\; LETTER-SPACING: normal\; orphans: auto\; widows: auto\; -webkit-text-stroke-width: 0px"><STRONG style="BORDER-RIGHT: 0px\; PADDING-RIGHT: 0px\; BORDER-TOP: 0px\; PADDING-LEFT: 0px\; FONT-WEIGHT: bold\; BACKGROUND: none transparent scroll repeat 0% 0%\; PADDING-BOTTOM: 0px\; MARGIN: 0px\; VERTICAL-ALIGN: baseline\; BORDER-LEFT: 0px\; PADDING-TOP: 0px\; BORDER-BOTTOM: 0px">Sponsorship Investment:</STRONG><SPAN class=Apple-converted-space>&nbsp\;</SPAN>$300<BR><STRONG style="BORDER-RIGHT: 0px\; PADDING-RIGHT: 0px\; BORDER-TOP: 0px\; PADDING-LEFT: 0px\; FONT-WEIGHT: bold\; BACKGROUND: none transparent scroll repeat 0% 0%\; PADDING-BOTTOM: 0px\; MARGIN: 0px\; VERTICAL-ALIGN: baseline\; BORDER-LEFT: 0px\; PADDING-TOP: 0px\; BORDER-BOTTOM: 0px">Sponsorship Includes:</STRONG></P><UL style="BORDER-RIGHT: 0px\; PADDING-RIGHT: 0px\; BORDER-TOP: 0px\; PADDING-LEFT: 0px\; BACKGROUND: rgb(255\,255\,255)\; PADDING-BOTTOM: 0px\; MARGIN: 0px 0px 0px 15px\; WORD-SPACING: 0px\; FONT: 13px/23px Arial\, Helvetica\, Tahoma\, san-serif\; VERTICAL-ALIGN: baseline\; TEXT-TRANSFORM: none\; BORDER-LEFT: 0px\; COLOR: rgb(0\,0\,0)\; TEXT-INDENT: 0px\; PADDING-TOP: 0px\; BORDER-BOTTOM: 0px\; WHITE-SPACE: normal\; LIST-STYLE-TYPE: disc\; LETTER-SPACING: normal\; orphans: auto\; widows: auto\; -webkit-text-stroke-width: 0px"><LI style="BORDER-RIGHT: 0px\; PADDING-RIGHT: 0px\; BORDER-TOP: 0px\; PADDING-LEFT: 0px\; BACKGROUND: none transparent scroll repeat 0% 0%\; PADDING-BOTTOM: 0px\; MARGIN: 0px\; VERTICAL-ALIGN: baseline\; BORDER-LEFT: 0px\; PADDING-TOP: 0px\; BORDER-BOTTOM: 0px"><SPAN style="BORDER-RIGHT: 0px\; PADDING-RIGHT: 0px\; BORDER-TOP: 0px\; PADDING-LEFT: 0px\; BACKGROUND: none transparent scroll repeat 0% 0%\; PADDING-BOTTOM: 0px\; MARGIN: 0px\; VERTICAL-ALIGN: baseline\; BORDER-LEFT: 0px\; LINE-HEIGHT: 1.8\; PADDING-TOP: 0px\; BORDER-BOTTOM: 0px">Company logo on invitation flyer tailored to your organization</SPAN></LI><LI style="BORDER-RIGHT: 0px\; PADDING-RIGHT: 0px\; BORDER-TOP: 0px\; PADDING-LEFT: 0px\; BACKGROUND: none transparent scroll repeat 0% 0%\; PADDING-BOTTOM: 0px\; MARGIN: 0px\; VERTICAL-ALIGN: baseline\; BORDER-LEFT: 0px\; PADDING-TOP: 0px\; BORDER-BOTTOM: 0px"><SPAN style="BORDER-RIGHT: 0px\; PADDING-RIGHT: 0px\; BORDER-TOP: 0px\; PADDING-LEFT: 0px\; BACKGROUND: none transparent scroll repeat 0% 0%\; PADDING-BOTTOM: 0px\; MARGIN: 0px\; VERTICAL-ALIGN: baseline\; BORDER-LEFT: 0px\; LINE-HEIGHT: 1.8\; PADDING-TOP: 0px\; BORDER-BOTTOM: 0px">Company name on all press releases</SPAN></LI><LI style="BORDER-RIGHT: 0px\; PADDING-RIGHT: 0px\; BORDER-TOP: 0px\; PADDING-LEFT: 0px\; BACKGROUND: none transparent scroll repeat 0% 0%\; PADDING-BOTTOM: 0px\; MARGIN: 0px\; VERTICAL-ALIGN: baseline\; BORDER-LEFT: 0px\; PADDING-TOP: 0px\; BORDER-BOTTOM: 0px"><SPAN style="BORDER-RIGHT: 0px\; PADDING-RIGHT: 0px\; BORDER-TOP: 0px\; PADDING-LEFT: 0px\; BACKGROUND: none transparent scroll repeat 0% 0%\; PADDING-BOTTOM: 0px\; MARGIN: 0px\; VERTICAL-ALIGN: baseline\; BORDER-LEFT: 0px\; LINE-HEIGHT: 1.8\; PADDING-TOP: 0px\; BORDER-BOTTOM: 0px">Company name and logo included on weekly Chamber Happenings email</SPAN></LI><LI style="BORDER-RIGHT: 0px\; PADDING-RIGHT: 0px\; BORDER-TOP: 0px\; PADDING-LEFT: 0px\; BACKGROUND: none transparent scroll repeat 0% 0%\; PADDING-BOTTOM: 0px\; MARGIN: 0px\; VERTICAL-ALIGN: baseline\; BORDER-LEFT: 0px\; PADDING-TOP: 0px\; BORDER-BOTTOM: 0px"><SPAN style="BORDER-RIGHT: 0px\; PADDING-RIGHT: 0px\; BORDER-TOP: 0px\; PADDING-LEFT: 0px\; BACKGROUND: none transparent scroll repeat 0% 0%\; PADDING-BOTTOM: 0px\; MARGIN: 0px\; VERTICAL-ALIGN: baseline\; BORDER-LEFT: 0px\; LINE-HEIGHT: 1.8\; PADDING-TOP: 0px\; BORDER-BOTTOM: 0px">Pre-event announcements at Chamber events</SPAN></LI><LI style="BORDER-RIGHT: 0px\; PADDING-RIGHT: 0px\; BORDER-TOP: 0px\; PADDING-LEFT: 0px\; BACKGROUND: none transparent scroll repeat 0% 0%\; PADDING-BOTTOM: 0px\; MARGIN: 0px\; VERTICAL-ALIGN: baseline\; BORDER-LEFT: 0px\; PADDING-TOP: 0px\; BORDER-BOTTOM: 0px"><SPAN style="BORDER-RIGHT: 0px\; PADDING-RIGHT: 0px\; BORDER-TOP: 0px\; PADDING-LEFT: 0px\; BACKGROUND: none transparent scroll repeat 0% 0%\; PADDING-BOTTOM: 0px\; MARGIN: 0px\; VERTICAL-ALIGN: baseline\; BORDER-LEFT: 0px\; LINE-HEIGHT: 1.8\; PADDING-TOP: 0px\; BORDER-BOTTOM: 0px">Company name included on Chamber website</SPAN></LI><LI style="BORDER-RIGHT: 0px\; PADDING-RIGHT: 0px\; BORDER-TOP: 0px\; PADDING-LEFT: 0px\; BACKGROUND: none transparent scroll repeat 0% 0%\; PADDING-BOTTOM: 0px\; MARGIN: 0px\; VERTICAL-ALIGN: baseline\; BORDER-LEFT: 0px\; PADDING-TOP: 0px\; BORDER-BOTTOM: 0px"><SPAN style="BORDER-RIGHT: 0px\; PADDING-RIGHT: 0px\; BORDER-TOP: 0px\; PADDING-LEFT: 0px\; BACKGROUND: none transparent scroll repeat 0% 0%\; PADDING-BOTTOM: 0px\; MARGIN: 0px\; VERTICAL-ALIGN: baseline\; BORDER-LEFT: 0px\; LINE-HEIGHT: 1.8\; PADDING-TOP: 0px\; BORDER-BOTTOM: 0px">Post-event recognition in Progress</SPAN></LI><LI style="BORDER-RIGHT: 0px\; PADDING-RIGHT: 0px\; BORDER-TOP: 0px\; PADDING-LEFT: 0px\; BACKGROUND: none transparent scroll repeat 0% 0%\; PADDING-BOTTOM: 0px\; MARGIN: 0px\; VERTICAL-ALIGN: baseline\; BORDER-LEFT: 0px\; PADDING-TOP: 0px\; BORDER-BOTTOM: 0px"><SPAN style="BORDER-RIGHT: 0px\; PADDING-RIGHT: 0px\; BORDER-TOP: 0px\; PADDING-LEFT: 0px\; BACKGROUND: none transparent scroll repeat 0% 0%\; PADDING-BOTTOM: 0px\; MARGIN: 0px\; VERTICAL-ALIGN: baseline\; BORDER-LEFT: 0px\; LINE-HEIGHT: 1.8\; PADDING-TOP: 0px\; BORDER-BOTTOM: 0px">Chamber volunteers to work the event<BR></SPAN></LI></UL><P style="BORDER-RIGHT: 0px\; PADDING-RIGHT: 0px\; BORDER-TOP: 0px\; PADDING-LEFT: 0px\; BACKGROUND: rgb(255\,255\,255)\; PADDING-BOTTOM: 0px\; MARGIN: 0px 0px 18px\; WORD-SPACING: 0px\; FONT: 13px/23px Arial\, Helvetica\, Tahoma\, san-serif\; VERTICAL-ALIGN: baseline\; TEXT-TRANSFORM: none\; BORDER-LEFT: 0px\; COLOR: rgb(0\,0\,0)\; TEXT-INDENT: 0px\; PADDING-TOP: 0px\; BORDER-BOTTOM: 0px\; WHITE-SPACE: normal\; LETTER-SPACING: normal\; orphans: auto\; widows: auto\; -webkit-text-stroke-width: 0px"><SPAN style="BORDER-RIGHT: 0px\; PADDING-RIGHT: 0px\; BORDER-TOP: 0px\; PADDING-LEFT: 0px\; BACKGROUND: none transparent scroll repeat 0% 0%\; PADDING-BOTTOM: 0px\; MARGIN: 0px\; VERTICAL-ALIGN: baseline\; BORDER-LEFT: 0px\; LINE-HEIGHT: 1.8\; PADDING-TOP: 0px\; BORDER-BOTTOM: 0px">The host of each Business After Hours is responsible for providing:</SPAN></P><UL style="BORDER-RIGHT: 0px\; PADDING-RIGHT: 0px\; BORDER-TOP: 0px\; PADDING-LEFT: 0px\; BACKGROUND: rgb(255\,255\,255)\; PADDING-BOTTOM: 0px\; MARGIN: 0px 0px 0px 15px\; WORD-SPACING: 0px\; FONT: 13px/23px Arial\, Helvetica\, Tahoma\, san-serif\; VERTICAL-ALIGN: baseline\; TEXT-TRANSFORM: none\; BORDER-LEFT: 0px\; COLOR: rgb(0\,0\,0)\; TEXT-INDENT: 0px\; PADDING-TOP: 0px\; BORDER-BOTTOM: 0px\; WHITE-SPACE: normal\; LIST-STYLE-TYPE: disc\; LETTER-SPACING: normal\; orphans: auto\; widows: auto\; -webkit-text-stroke-width: 0px"><LI style="BORDER-RIGHT: 0px\; PADDING-RIGHT: 0px\; BORDER-TOP: 0px\; PADDING-LEFT: 0px\; BACKGROUND: none transparent scroll repeat 0% 0%\; PADDING-BOTTOM: 0px\; MARGIN: 0px\; VERTICAL-ALIGN: baseline\; BORDER-LEFT: 0px\; PADDING-TOP: 0px\; BORDER-BOTTOM: 0px"><SPAN style="BORDER-RIGHT: 0px\; PADDING-RIGHT: 0px\; BORDER-TOP: 0px\; PADDING-LEFT: 0px\; BACKGROUND: none transparent scroll repeat 0% 0%\; PADDING-BOTTOM: 0px\; MARGIN: 0px\; VERTICAL-ALIGN: baseline\; BORDER-LEFT: 0px\; LINE-HEIGHT: 1.8\; PADDING-TOP: 0px\; BORDER-BOTTOM: 0px">The location to accommodate 100 attendees</SPAN></LI><LI style="BORDER-RIGHT: 0px\; PADDING-RIGHT: 0px\; BORDER-TOP: 0px\; PADDING-LEFT: 0px\; BACKGROUND: none transparent scroll repeat 0% 0%\; PADDING-BOTTOM: 0px\; MARGIN: 0px\; VERTICAL-ALIGN: baseline\; BORDER-LEFT: 0px\; PADDING-TOP: 0px\; BORDER-BOTTOM: 0px">Hors d’oeuvres</LI><LI style="BORDER-RIGHT: 0px\; PADDING-RIGHT: 0px\; BORDER-TOP: 0px\; PADDING-LEFT: 0px\; BACKGROUND: none transparent scroll repeat 0% 0%\; PADDING-BOTTOM: 0px\; MARGIN: 0px\; VERTICAL-ALIGN: baseline\; BORDER-LEFT: 0px\; PADDING-TOP: 0px\; BORDER-BOTTOM: 0px">Beverages</LI><LI style="BORDER-RIGHT: 0px\; PADDING-RIGHT: 0px\; BORDER-TOP: 0px\; PADDING-LEFT: 0px\; BACKGROUND: none transparent scroll repeat 0% 0%\; PADDING-BOTTOM: 0px\; MARGIN: 0px\; VERTICAL-ALIGN: baseline\; BORDER-LEFT: 0px\; PADDING-TOP: 0px\; BORDER-BOTTOM: 0px">Door Prize</LI></UL>
LOCATION:SOS Club 819 Sunset Avenue Modesto\, CA 95351
UID:e.2695.594
SEQUENCE:3
DTSTAMP:20260422T154336Z
URL:https://business.modchamber.org/events/details/business-after-hours-sos-club-11-20-2014-594
END:VEVENT

END:VCALENDAR
