BEGIN:VCALENDAR
VERSION:2.0
PRODID:-//ChamberMaster//Event Calendar 2.0//EN
METHOD:PUBLISH
X-PUBLISHED-TTL:P3D
REFRESH-INTERVAL:P3D
CALSCALE:GREGORIAN
BEGIN:VEVENT
DTSTART:20130621T003000Z
DTEND:20130621T020000Z
X-MICROSOFT-CDO-ALLDAYEVENT:FALSE
SUMMARY:Business After Hours - Modesto Centre Plaza
DESCRIPTION:The June Business After Hours is being held in conjunction with the Business to Business Trade Show
X-ALT-DESC;FMTTYPE=text/html:The June Business After Hours is being held in conjunction with the Business to Business Trade Show
LOCATION:Modesto Centre Plaza 1000 L St. Modesto\, CA
UID:e.2695.244
SEQUENCE:3
DTSTAMP:20260423T202544Z
URL:https://business.modchamber.org/events/details/business-after-hours-modesto-centre-plaza-06-20-2013-244
END:VEVENT

END:VCALENDAR
