BEGIN:VCALENDAR
VERSION:2.0
PRODID:-//ChamberMaster//Event Calendar 2.0//EN
METHOD:PUBLISH
X-PUBLISHED-TTL:P3D
REFRESH-INTERVAL:P3D
CALSCALE:GREGORIAN
BEGIN:VEVENT
DTSTART:20141212T013000Z
DTEND:20141212T033000Z
X-MICROSOFT-CDO-ALLDAYEVENT:FALSE
SUMMARY:Business After Hours - Cash-Dudley Speiller & Torres Professional Law Corporation
DESCRIPTION:Enjoy showcasing your business to 100+ Chamber colleagues in an after hours environment. Create a relaxing yet informative evening to introduce your business and create a business networking opportunity. Held from 5:30 pm – 7:30 pm\, the third Thursday of the month\, Business After Hours is one of the Modesto Chamber’s longest and most sought after events.\nCall Lynda Jost at 209.577.5757 to get your date reserved.\n\nSponsorship Investment: $300\nSponsorship Includes:\n\nCompany logo on invitation flyer tailored to your organization\nCompany name on all press releases\nCompany name and logo included on weekly Chamber Happenings email\nPre-event announcements at Chamber events\nCompany name included on Chamber website\nPost-event recognition in Progress\nChamber volunteers to work the event\nThe host of each Business After Hours is responsible for providing:\n\nThe location to accommodate 100 attendees\nHors d’oeuvres\nBeverages\nDoor Prize
X-ALT-DESC;FMTTYPE=text/html:Enjoy showcasing your business to 100+ Chamber colleagues in an after hours environment. Create a relaxing yet informative evening to introduce your business and create a business networking opportunity. Held from 5:30 pm – 7:30 pm\, the third Thursday of the month\, Business After Hours is one of the Modesto Chamber’s longest and most sought after events.\nCall Lynda Jost at 209.577.5757 to get your date reserved.\n\nSponsorship Investment: $300\nSponsorship Includes:\n\nCompany logo on invitation flyer tailored to your organization\nCompany name on all press releases\nCompany name and logo included on weekly Chamber Happenings email\nPre-event announcements at Chamber events\nCompany name included on Chamber website\nPost-event recognition in Progress\nChamber volunteers to work the event\nThe host of each Business After Hours is responsible for providing:\n\nThe location to accommodate 100 attendees\nHors d’oeuvres\nBeverages\nDoor Prize
LOCATION:Cash-Dudley Speiller & Torres Professional Law Corporation 518 13th Street Modesto\, CA 953542525
UID:e.2695.476
SEQUENCE:3
DTSTAMP:20260422T134208Z
URL:https://business.modchamber.org/events/details/business-after-hours-cash-dudley-speiller-torres-professional-law-corporation-12-11-2014-476
END:VEVENT

END:VCALENDAR
