BEGIN:VCALENDAR
VERSION:2.0
PRODID:-//ChamberMaster//Event Calendar 2.0//EN
METHOD:PUBLISH
X-PUBLISHED-TTL:P3D
REFRESH-INTERVAL:P3D
CALSCALE:GREGORIAN
BEGIN:VEVENT
DTSTART:20131213T013000Z
DTEND:20131213T033000Z
X-MICROSOFT-CDO-ALLDAYEVENT:FALSE
SUMMARY:Business After Hours
DESCRIPTION:
X-ALT-DESC;FMTTYPE=text/html:
LOCATION:DoubleTree Hotel 1150 9th Street Modesto\, CA 95354
UID:e.2695.250
SEQUENCE:3
DTSTAMP:20260423T091005Z
URL:https://business.modchamber.org/events/details/business-after-hours-12-12-2013-250
END:VEVENT

END:VCALENDAR
