BEGIN:VCALENDAR
VERSION:2.0
PRODID:-//ChamberMaster//Event Calendar 2.0//EN
METHOD:PUBLISH
X-PUBLISHED-TTL:P3D
REFRESH-INTERVAL:P3D
CALSCALE:GREGORIAN
BEGIN:VEVENT
DTSTART:20131018T003000Z
DTEND:20131018T023000Z
X-MICROSOFT-CDO-ALLDAYEVENT:FALSE
SUMMARY:Business After Hours
DESCRIPTION:This is the text in the HTML editor!
X-ALT-DESC;FMTTYPE=text/html:<DIV>This is the text in the <STRONG><FONT color=#0000ff>HTML</FONT></STRONG> editor!</DIV>
LOCATION:Modesto City-County Airport 700 Tioga Drive\, Hangar #1 Modesto\, CA 953543916
UID:e.2695.248
SEQUENCE:3
DTSTAMP:20260423T120805Z
URL:https://business.modchamber.org/events/details/business-after-hours-10-17-2013-248
END:VEVENT

END:VCALENDAR
