BEGIN:VCALENDAR
VERSION:2.0
PRODID:-//ChamberMaster//Event Calendar 2.0//EN
METHOD:PUBLISH
X-PUBLISHED-TTL:P3D
REFRESH-INTERVAL:P3D
CALSCALE:GREGORIAN
BEGIN:VEVENT
DTSTART:20140821T070000Z
DTEND:20140821T070000Z
X-MICROSOFT-CDO-ALLDAYEVENT:FALSE
SUMMARY:Business After Hours
DESCRIPTION:Business After Hours
X-ALT-DESC;FMTTYPE=text/html:Business After Hours
LOCATION:Modesto Commerce Bank
UID:e.2695.2273
SEQUENCE:3
DTSTAMP:20260422T193929Z
URL:https://business.modchamber.org/events/details/business-after-hours-08-21-2014-2273
END:VEVENT

END:VCALENDAR
