BEGIN:VCALENDAR
VERSION:2.0
PRODID:-//ChamberMaster//Event Calendar 2.0//EN
METHOD:PUBLISH
X-PUBLISHED-TTL:P3D
REFRESH-INTERVAL:P3D
CALSCALE:GREGORIAN
BEGIN:VEVENT
DTSTART:20140718T003000Z
DTEND:20140718T023000Z
X-MICROSOFT-CDO-ALLDAYEVENT:FALSE
SUMMARY:Business After Hours
DESCRIPTION:Join in celebration of our 12 years in the community. Dale Commons cordially invites you to A Trip Around the World Wine Tasting & Silent Auction. They will be showcasing wines and pairing foods from France\, India\, South America\, Japan & California. All proceeds from our silent auction benefit Make A Wish
X-ALT-DESC;FMTTYPE=text/html:Join in celebration of our 12 years in the community. Dale Commons cordially invites you to A Trip Around the World Wine Tasting & Silent Auction. They will be showcasing wines and pairing foods from France\, India\, South America\, Japan & California. All proceeds from our silent auction benefit Make A Wish
LOCATION:Dale Commons Assisted Living 3900 Dale Road Modesto\, CA 95356
UID:e.2695.420
SEQUENCE:3
DTSTAMP:20260422T223900Z
URL:https://business.modchamber.org/events/details/business-after-hours-07-17-2014-420
END:VEVENT

END:VCALENDAR
