BEGIN:VCALENDAR
VERSION:2.0
PRODID:-//ChamberMaster//Event Calendar 2.0//EN
METHOD:PUBLISH
X-PUBLISHED-TTL:P3D
REFRESH-INTERVAL:P3D
CALSCALE:GREGORIAN
BEGIN:VEVENT
DTSTART:20140620T003000Z
DTEND:20140620T023000Z
X-MICROSOFT-CDO-ALLDAYEVENT:FALSE
SUMMARY:Business After Hours
DESCRIPTION:
X-ALT-DESC;FMTTYPE=text/html:
LOCATION:Mitchell's Modesto Harley-Davidson 500 N. Carpenter Road Modesto\, CA 95351
UID:e.2695.408
SEQUENCE:3
DTSTAMP:20260423T002607Z
URL:https://business.modchamber.org/events/details/business-after-hours-06-19-2014-408
END:VEVENT

END:VCALENDAR
