BEGIN:VCALENDAR
VERSION:2.0
PRODID:-//ChamberMaster//Event Calendar 2.0//EN
METHOD:PUBLISH
X-PUBLISHED-TTL:P3D
REFRESH-INTERVAL:P3D
CALSCALE:GREGORIAN
BEGIN:VEVENT
DTSTART:20140418T003000Z
DTEND:20140418T023000Z
X-MICROSOFT-CDO-ALLDAYEVENT:FALSE
SUMMARY:Business After Hours
DESCRIPTION:
X-ALT-DESC;FMTTYPE=text/html:
LOCATION:Greens on 10th 953 - 10th Street Modesto\, CA 95354
UID:e.2695.384
SEQUENCE:3
DTSTAMP:20260423T015805Z
URL:https://business.modchamber.org/events/details/business-after-hours-04-17-2014-384
END:VEVENT

END:VCALENDAR
