BEGIN:VCALENDAR
VERSION:2.0
PRODID:-//ChamberMaster//Event Calendar 2.0//EN
METHOD:PUBLISH
X-PUBLISHED-TTL:P3D
REFRESH-INTERVAL:P3D
CALSCALE:GREGORIAN
BEGIN:VEVENT
DTSTART:20150404T020000Z
DTEND:20150403T070000Z
X-MICROSOFT-CDO-ALLDAYEVENT:FALSE
SUMMARY:Bunny Con 2015
DESCRIPTION:We hop (yes-literally) to a new location about every half hour. Itinerary will be posted on the Santa Con Facebook closer to BunnyCon date.\n\nHere is the basic BUNNY HOP plan:\n\n1. Dress up - add something to your bunny ears for more interesting appeal.\n2. Be sexy (like we need to tell you that).\n3. Be happy - the Easter Bunny is always happy.\n4. Bring cash for the bartenders\, tip well.\n5. Don't be THAT Bunny - you know who we mean.\n6. No Bunny left behind - look out for each other.\nAnd remember... what one Bunny can't get away with\, MANY can\, so make sure you all hop together.\n\nBe sure to check out Daydreams and Nightmares on 417 S. 7th Street Modesto for the best in Bunny attire.\n\nModesto BunnyCon 2014 is brought to you by the same infamous ne'er-do-wells as Modesto SantaCon.\nContact :	\nPhone :	214-0137\nEmail :	\nWeb Site :
X-ALT-DESC;FMTTYPE=text/html:\nWe hop (yes-literally) to a new location about every half hour. Itinerary will be posted on the Santa Con Facebook closer to BunnyCon date.\n\nHere is the basic BUNNY HOP plan:\n\n1. Dress up - add something to your bunny ears for more interesting appeal.\n2. Be sexy (like we need to tell you that).\n3. Be happy - the Easter Bunny is always happy.\n4. Bring cash for the bartenders\, tip well.\n5. Don't be THAT Bunny - you know who we mean.\n6. No Bunny left behind - look out for each other.\nAnd remember... what one Bunny can't get away with\, MANY can\, so make sure you all hop together.\n\nBe sure to check out Daydreams and Nightmares on 417 S. 7th Street Modesto for the best in Bunny attire.\n\nModesto BunnyCon 2014 is brought to you by the same infamous ne'er-do-wells as Modesto SantaCon.\nContact :	\nPhone :	214-0137\nEmail :	\nWeb Site :	
LOCATION:TBA
UID:e.2695.831
SEQUENCE:3
DTSTAMP:20260420T061844Z
URL:https://business.modchamber.org/events/details/bunny-con-2015-04-03-2015-831
END:VEVENT

END:VCALENDAR
