BEGIN:VCALENDAR
VERSION:2.0
PRODID:-//ChamberMaster//Event Calendar 2.0//EN
METHOD:PUBLISH
X-PUBLISHED-TTL:P3D
REFRESH-INTERVAL:P3D
CALSCALE:GREGORIAN
BEGIN:VEVENT
DTSTART:20150410T023000Z
DTEND:20150409T070000Z
X-MICROSOFT-CDO-ALLDAYEVENT:FALSE
SUMMARY:Buddy Guy
DESCRIPTION:Blues master Buddy Guy and his band are coming to the Gallo Center! In a career that spans nearly 50 years with over 50 albums released\, the incomparable guitarist and singer recently added the prestigious Kennedy Center Honors to his long list of achievements. Guy also is the recipient of six Grammy Awards and Rock and Roll Hall of Fame induction. An exponent of the Chicago blues style\, he has influenced such blues-rock musicians as Eric Clapton\, Jimmy Page and Stevie Ray Vaughn. Rolling Stone Magazine ranked Guy 30th on its list of the greatest 100 guitarists of all time.\nContact : 	Gallo Center\nPhone : 	209-338-2100\nEmail : 	\nWeb Site : 	galloarts.org
X-ALT-DESC;FMTTYPE=text/html:Blues master Buddy Guy and his band are coming to the Gallo Center! In a career that spans nearly 50 years with over 50 albums released\, the incomparable guitarist and singer recently added the prestigious Kennedy Center Honors to his long list of achievements. Guy also is the recipient of six Grammy Awards and Rock and Roll Hall of Fame induction. An exponent of the Chicago blues style\, he has influenced such blues-rock musicians as Eric Clapton\, Jimmy Page and Stevie Ray Vaughn. Rolling Stone Magazine ranked Guy 30th on its list of the greatest 100 guitarists of all time.\nContact : 	Gallo Center\nPhone : 	209-338-2100\nEmail : 	\nWeb Site : 	galloarts.org
LOCATION:Gallo Center 1000 I St Modesto\, CA 95354
UID:e.2695.850
SEQUENCE:3
DTSTAMP:20260420T062555Z
URL:https://business.modchamber.org/events/details/buddy-guy-04-09-2015-850
END:VEVENT

END:VCALENDAR
