BEGIN:VCALENDAR
VERSION:2.0
PRODID:-//ChamberMaster//Event Calendar 2.0//EN
METHOD:PUBLISH
X-PUBLISHED-TTL:P3D
REFRESH-INTERVAL:P3D
CALSCALE:GREGORIAN
BEGIN:VEVENT
DTSTART:20150308T220000Z
DTEND:20150308T080000Z
X-MICROSOFT-CDO-ALLDAYEVENT:FALSE
SUMMARY:Buddy
DESCRIPTION:BUDDY: The Buddy Holly Story \n\nIt's the most successful rock 'n roll musical of all time! More than 22 million people around the world have experienced the drama\, passion and excitement of Buddy Holly's story\, from his meteoric rise to fame\, to his final legendary performance at The Surf Ballroom in Clear Lake\, Iowa--the day the music died\, as Don McLean famously sang in "American Pie." Featuring two terrific hours of unforgettable songs--"That'll Be the Day\," "Oh\, Boy\," "Rave On\," "La Bamba\," "Chantilly Lace\," "Johnny B. Goode\," "Raining in My Heart\," "Shout" and more--this show is just Peggy Sue-perb!\nContact :	Gallo Center\nPhone :	209-338-2100\nEmail :	\nWeb Site :	galloarts.org
X-ALT-DESC;FMTTYPE=text/html:BUDDY: The Buddy Holly Story \n\nIt's the most successful rock 'n roll musical of all time! More than 22 million people around the world have experienced the drama\, passion and excitement of Buddy Holly's story\, from his meteoric rise to fame\, to his final legendary performance at The Surf Ballroom in Clear Lake\, Iowa--the day the music died\, as Don McLean famously sang in "American Pie." Featuring two terrific hours of unforgettable songs--"That'll Be the Day\," "Oh\, Boy\," "Rave On\," "La Bamba\," "Chantilly Lace\," "Johnny B. Goode\," "Raining in My Heart\," "Shout" and more--this show is just Peggy Sue-perb!\nContact :	Gallo Center\nPhone :	209-338-2100\nEmail :	\nWeb Site :	galloarts.org\n
LOCATION:Gallo Center 1000 I Street Modesto\, CA 95354
UID:e.2695.786
SEQUENCE:3
DTSTAMP:20260420T073438Z
URL:https://business.modchamber.org/events/details/buddy-03-08-2015-786
END:VEVENT

END:VCALENDAR
