BEGIN:VCALENDAR
VERSION:2.0
PRODID:-//ChamberMaster//Event Calendar 2.0//EN
METHOD:PUBLISH
X-PUBLISHED-TTL:P3D
REFRESH-INTERVAL:P3D
CALSCALE:GREGORIAN
BEGIN:VEVENT
DTSTART:20160306T040000Z
DTEND:20160305T080000Z
X-MICROSOFT-CDO-ALLDAYEVENT:FALSE
SUMMARY:BROADWAY'S NEXT H!T MUSICAL
DESCRIPTION:Back by popular demand! The hysterical “Broadway’s Next H!T Musical” is the only unscripted musical comedy. Master improvisers gather made up\, hit song suggestions from the audience and create a spontaneous evening of music\, humor\, and laughter. The audience votes for their favorite song and watches as the cast turns it into a full blown improvised musical—complete with memorable characters\, witty dialogue\, and plot twists galore. Every song is fresh. Every scene is new. Every show is different. It’s all improvised and it’s all funny. Suitable for all ages\, too!\nContact :	Gallo Center\nPhone :	209-338-2100\nEmail :	\nWeb Site :	galloarts.org
X-ALT-DESC;FMTTYPE=text/html:Back by popular demand! The hysterical “Broadway’s Next H!T Musical” is the only unscripted musical comedy. Master improvisers gather made up\, hit song suggestions from the audience and create a spontaneous evening of music\, humor\, and laughter. The audience votes for their favorite song and watches as the cast turns it into a full blown improvised musical—complete with memorable characters\, witty dialogue\, and plot twists galore. Every song is fresh. Every scene is new. Every show is different. It’s all improvised and it’s all funny. Suitable for all ages\, too!\nContact :	Gallo Center\nPhone :	209-338-2100\nEmail :	\nWeb Site :	galloarts.org
LOCATION:Gallo Center 1000 I Street Modesto\, CA 95354
UID:e.2695.1453
SEQUENCE:3
DTSTAMP:20260419T154255Z
URL:https://business.modchamber.org/events/details/broadway-s-next-h-t-musical-03-05-2016-1453
END:VEVENT

END:VCALENDAR
