BEGIN:VCALENDAR
VERSION:2.0
PRODID:-//ChamberMaster//Event Calendar 2.0//EN
METHOD:PUBLISH
X-PUBLISHED-TTL:P3D
REFRESH-INTERVAL:P3D
CALSCALE:GREGORIAN
BEGIN:VEVENT
DTSTART:20160312T043000Z
DTEND:20160311T080000Z
X-MICROSOFT-CDO-ALLDAYEVENT:FALSE
SUMMARY:Breaking Benjamin Concert
DESCRIPTION:Tickets $35.00\n\nTickets are available locally at select Cruisers locations (Salida\, McHenry\, Briggsmore\, Barbours\, Dale Rd\, Riverbank)\, and at Car Audio Outlaws (McHenry).\n\nSix years have passed since BREAKING BENJAMIN released their last album—2009’s Dear Agony—but one listen to their new album\, Dark Before Dawn\, and it becomes clear that time away from the music world hasn’t caused them to lose a step. Upon release\, Dark Before Dawn debuted #1 on Billboard’s Top 200 album chart\, a first for the multi-platinum band\, while their first single “Failure” spent 8 consecutive weeks at #1 at rock radio. The band’s sound is noticeably more invigorated\, energetic\, and purposeful than ever and marks a new era as founder/frontman\, Ben Burnley\, worked with guitarists Jasen Rauch (RED) and Keith Wallen (Adelitas Way)\, bassist Aaron Bruch and drummer Shaun Foist (Picture Me Broken.) The result is simultaneously vintage BREAKING BENJAMIN and yet decisively more cohesive.\n\nOver the past decade BREAKING BENJAMIN has achieved worldwide success through their chart-topping music\, their electrifying live performances and in the process amassed a sizeable and diehard fan base (over 5.7 million likes on Facebook\, 220\,000+ followers on Twitter.) And\, it’s the fans that ultimately fuels Burnley. “The band has always really been about the fans to me\,” says Burnley. “That’s who comes first to me\, and that’s what it’s all about. There’s nothing that matters any more than that to me\, and so I’m just happy I’m able to give them the best they can possibly get.”\nContact :	Centre Plaza\nPhone :	209-577-6444\nEmail :	\nWeb Site :	http://www.jmaxproductions.net/event/6349255
X-ALT-DESC;FMTTYPE=text/html:Tickets $35.00\n\nTickets are available locally at select Cruisers locations (Salida\, McHenry\, Briggsmore\, Barbours\, Dale Rd\, Riverbank)\, and at Car Audio Outlaws (McHenry).\n\nSix years have passed since BREAKING BENJAMIN released their last album—2009’s Dear Agony—but one listen to their new album\, Dark Before Dawn\, and it becomes clear that time away from the music world hasn’t caused them to lose a step. Upon release\, Dark Before Dawn debuted #1 on Billboard’s Top 200 album chart\, a first for the multi-platinum band\, while their first single “Failure” spent 8 consecutive weeks at #1 at rock radio. The band’s sound is noticeably more invigorated\, energetic\, and purposeful than ever and marks a new era as founder/frontman\, Ben Burnley\, worked with guitarists Jasen Rauch (RED) and Keith Wallen (Adelitas Way)\, bassist Aaron Bruch and drummer Shaun Foist (Picture Me Broken.) The result is simultaneously vintage BREAKING BENJAMIN and yet decisively more cohesive.\n\nOver the past decade BREAKING BENJAMIN has achieved worldwide success through their chart-topping music\, their electrifying live performances and in the process amassed a sizeable and diehard fan base (over 5.7 million likes on Facebook\, 220\,000+ followers on Twitter.) And\, it’s the fans that ultimately fuels Burnley. “The band has always really been about the fans to me\,” says Burnley. “That’s who comes first to me\, and that’s what it’s all about. There’s nothing that matters any more than that to me\, and so I’m just happy I’m able to give them the best they can possibly get.”\nContact :	Centre Plaza\nPhone :	209-577-6444\nEmail :	\nWeb Site :	http://www.jmaxproductions.net/event/6349255\n
LOCATION:Centre Plaza 1000 L Street Modesto\, CA 95354
UID:e.2695.1458
SEQUENCE:3
DTSTAMP:20260419T153203Z
URL:https://business.modchamber.org/events/details/breaking-benjamin-concert-03-11-2016-1458
END:VEVENT

END:VCALENDAR
