BEGIN:VCALENDAR
VERSION:2.0
PRODID:-//ChamberMaster//Event Calendar 2.0//EN
METHOD:PUBLISH
X-PUBLISHED-TTL:P3D
REFRESH-INTERVAL:P3D
CALSCALE:GREGORIAN
BEGIN:VEVENT
DTSTART:20151205T160000Z
DTEND:20151205T193000Z
X-MICROSOFT-CDO-ALLDAYEVENT:FALSE
SUMMARY:Breakfast with Santa
DESCRIPTION:Come enjoy a delicious pancake breakfast\, get your picture taken with Santa\, listen as Mrs. Claus reads a story & your kids make holiday crafts. \n\nTickets are $5.00 each.\n\nThe North Modesto Kiwanis and the City Parks and Recreation Dept. is sponsoring the Breakfast to raise money for the "LEISURE BUCKS" which supports after school activities for kids.\n\nLocations where tickets are available:\n\nModesto Parks and Recreation Dept.\n1010 10th Street\, Modesto\n\nModesto Convention and Visitors Bureau\n1150 9th Street Ste. C\, Modesto\nContact :	Modesto Parks\, Recreation and Neighborhood\nPhone :	209-577-5344\nEmail :	\nWeb Site :
X-ALT-DESC;FMTTYPE=text/html:Come enjoy a delicious pancake breakfast\, get your picture taken with Santa\, listen as Mrs. Claus reads a story & your kids make holiday crafts. \n\nTickets are $5.00 each.\n\nThe North Modesto Kiwanis and the City Parks and Recreation Dept. is sponsoring the Breakfast to raise money for the "LEISURE BUCKS" which supports after school activities for kids.\n\nLocations where tickets are available:\n\nModesto Parks and Recreation Dept.\n1010 10th Street\, Modesto\n\nModesto Convention and Visitors Bureau\n1150 9th Street Ste. C\, Modesto\nContact :	Modesto Parks\, Recreation and Neighborhood\nPhone :	209-577-5344\nEmail :	\nWeb Site :	
LOCATION:Senior Center 211 Bodem St Modesto\, CA 95350
UID:e.2695.1292
SEQUENCE:3
DTSTAMP:20260419T190610Z
URL:https://business.modchamber.org/events/details/breakfast-with-santa-12-05-2015-1292
END:VEVENT

END:VCALENDAR
