BEGIN:VCALENDAR
VERSION:2.0
PRODID:-//ChamberMaster//Event Calendar 2.0//EN
METHOD:PUBLISH
X-PUBLISHED-TTL:P3D
REFRESH-INTERVAL:P3D
CALSCALE:GREGORIAN
BEGIN:VEVENT
DTSTART:20160312T150000Z
DTEND:20160312T190000Z
X-MICROSOFT-CDO-ALLDAYEVENT:FALSE
SUMMARY:Breakfast Bonanza-Christian Berets
DESCRIPTION:Cost: Pre-Sale:: $7.00 for Adults & Children over 12 years \n$4.00 for Disabled Guests and Children 12 and under \n\nALL PROCEEDS GO FOR 2016 SUMMER CAMP SCHOLARSHIPS\n\nEnjoy a hearty breakfast with family and friends\, enter to win fun raffle prizes\, \nand make a difference that counts!\nContact :	Christian Berets\nPhone :	(209) 524-7993?\nEmail :	\nWeb Site :	www.christianberets.org
X-ALT-DESC;FMTTYPE=text/html:Cost: Pre-Sale:: $7.00 for Adults & Children over 12 years \n$4.00 for Disabled Guests and Children 12 and under \n\nALL PROCEEDS GO FOR 2016 SUMMER CAMP SCHOLARSHIPS\n\nEnjoy a hearty breakfast with family and friends\, enter to win fun raffle prizes\, \nand make a difference that counts!\nContact :	Christian Berets\nPhone :	(209) 524-7993?\nEmail :	\nWeb Site :	www.christianberets.org
LOCATION:Parkview Christian Estates 3112 Napier Drive Modesto\, CA 95350
UID:e.2695.1462
SEQUENCE:3
DTSTAMP:20260419T154237Z
URL:https://business.modchamber.org/events/details/breakfast-bonanza-christian-berets-03-12-2016-1462
END:VEVENT

END:VCALENDAR
