BEGIN:VCALENDAR
VERSION:2.0
PRODID:-//ChamberMaster//Event Calendar 2.0//EN
METHOD:PUBLISH
X-PUBLISHED-TTL:P3D
REFRESH-INTERVAL:P3D
CALSCALE:GREGORIAN
BEGIN:VEVENT
DTSTART:20151004T230000Z
DTEND:20151004T070000Z
X-MICROSOFT-CDO-ALLDAYEVENT:FALSE
SUMMARY:BRAM STOKER'S DRACULA
DESCRIPTION:L. A. Theatre Works\nBRAM STOKER'S DRACULA\n\nIn this LA Theatre Works live radio theater production of Charles Morey’s acclaimed adaptation\, Count Dracula slips quietly into Victorian London with a cargo of his native Transylvanian soil\, necessary for rest between his victims. The city seems helpless against his frightful power\, and only one man\, the smart and resourceful Dr. Van Helsing\, can stop the carnage. But to do this\, he must uncover the vampire's lair and pierce Dracula’s heart with a wooden stake\, setting up an epic confrontation of good vs evil. LA Theatre Works previously appeared at the Center with radio plays of “The War of the Worlds” and “The Lost World.”\nContact :	Gallo Center\nPhone :	209-338-2100\nEmail :	\nWeb Site :	galloarts.org
X-ALT-DESC;FMTTYPE=text/html:L. A. Theatre Works\nBRAM STOKER'S DRACULA\n\nIn this LA Theatre Works live radio theater production of Charles Morey’s acclaimed adaptation\, Count Dracula slips quietly into Victorian London with a cargo of his native Transylvanian soil\, necessary for rest between his victims. The city seems helpless against his frightful power\, and only one man\, the smart and resourceful Dr. Van Helsing\, can stop the carnage. But to do this\, he must uncover the vampire's lair and pierce Dracula’s heart with a wooden stake\, setting up an epic confrontation of good vs evil. LA Theatre Works previously appeared at the Center with radio plays of “The War of the Worlds” and “The Lost World.”\nContact :	Gallo Center\nPhone :	209-338-2100\nEmail :	\nWeb Site :	galloarts.org\n
LOCATION:Gallo Center 1000 I St Modesto\, CA 95354
UID:e.2695.1215
SEQUENCE:3
DTSTAMP:20260419T214408Z
URL:https://business.modchamber.org/events/details/bram-stoker-s-dracula-10-04-2015-1215
END:VEVENT

END:VCALENDAR
