BEGIN:VCALENDAR
VERSION:2.0
PRODID:-//ChamberMaster//Event Calendar 2.0//EN
METHOD:PUBLISH
X-PUBLISHED-TTL:P3D
REFRESH-INTERVAL:P3D
CALSCALE:GREGORIAN
BEGIN:VEVENT
DTSTART:20150525T020000Z
DTEND:20150524T070000Z
X-MICROSOFT-CDO-ALLDAYEVENT:FALSE
SUMMARY:Boz Scaggs
DESCRIPTION:Born in Texas and raised with an abiding respect for a wide spectrum of American roots music\, Boz Scaggs has combined rock\, jazz\, R&B and blues to create a trademark sound. His extensive and distinctive career spans 30 years and many accolades\, with such memorable hits as “Lido Shuffle\,” “Lowdown\,” and many others that will be showcased in his first performance at the Gallo Center since 2012. Scagg's latest album\, “A Fool to Care\,” will be released March 31.
X-ALT-DESC;FMTTYPE=text/html:Born in Texas and raised with an abiding respect for a wide spectrum of American roots music\, Boz Scaggs has combined rock\, jazz\, R&B and blues to create a trademark sound. His extensive and distinctive career spans 30 years and many accolades\, with such memorable hits as “Lido Shuffle\,” “Lowdown\,” and many others that will be showcased in his first performance at the Gallo Center since 2012. Scagg's latest album\, “A Fool to Care\,” will be released March 31.
LOCATION:Gallo Center For The Arts 1000 I St Modesto\, CA 95354
UID:e.2695.962
SEQUENCE:3
DTSTAMP:20260420T045231Z
URL:https://business.modchamber.org/events/details/boz-scaggs-05-24-2015-962
END:VEVENT

END:VCALENDAR
