BEGIN:VCALENDAR
VERSION:2.0
PRODID:-//ChamberMaster//Event Calendar 2.0//EN
METHOD:PUBLISH
X-PUBLISHED-TTL:P3D
REFRESH-INTERVAL:P3D
CALSCALE:GREGORIAN
BEGIN:VEVENT
DTSTART:20150419T020000Z
DTEND:20150418T070000Z
X-MICROSOFT-CDO-ALLDAYEVENT:FALSE
SUMMARY:Boyz Nite Out Concert & 20th Anniversay
DESCRIPTION:You've seen "Pitch Perfect\," you've watched the "Sing Off." Now come and see one of the premier a cappella groups in the business\, live and in person. For more than 20 years\, Boyz Nite Out has been wowing audiences worldwide and opening for acts like Ray Charles\, Michael McDonald\, and Big Bad Voodoo Daddy and the Righteous Brothers. Pair that with seven albums and more than two decades of experience and they leave every audience member wanting more. Come join The Boyz and celebrate their 20th anniversary while hearing all of your favorite songs from the ‘50s to the present and every decade in between!\n\nDoors at 6:30\; show at 7 p.m.\nGeneral admission tickets are $20\nContact : 	State Theatre\nPhone : 	BOX OFFICE (209) 527-4697\nEmail : 	\nWeb Site : 	thestate.org
X-ALT-DESC;FMTTYPE=text/html:You've seen "Pitch Perfect\," you've watched the "Sing Off." Now come and see one of the premier a cappella groups in the business\, live and in person. For more than 20 years\, Boyz Nite Out has been wowing audiences worldwide and opening for acts like Ray Charles\, Michael McDonald\, and Big Bad Voodoo Daddy and the Righteous Brothers. Pair that with seven albums and more than two decades of experience and they leave every audience member wanting more. Come join The Boyz and celebrate their 20th anniversary while hearing all of your favorite songs from the ‘50s to the present and every decade in between!\n\nDoors at 6:30\; show at 7 p.m.\nGeneral admission tickets are $20\nContact : 	State Theatre\nPhone : 	BOX OFFICE (209) 527-4697\nEmail : 	\nWeb Site : 	thestate.org
LOCATION:State Theatre 1307 J St Modesto\, CA 95354
UID:e.2695.876
SEQUENCE:3
DTSTAMP:20260420T074134Z
URL:https://business.modchamber.org/events/details/boyz-nite-out-concert-20th-anniversay-04-18-2015-876
END:VEVENT

END:VCALENDAR
