BEGIN:VCALENDAR
VERSION:2.0
PRODID:-//ChamberMaster//Event Calendar 2.0//EN
METHOD:PUBLISH
X-PUBLISHED-TTL:P3D
REFRESH-INTERVAL:P3D
CALSCALE:GREGORIAN
BEGIN:VEVENT
DTSTART:20150327T010000Z
DTEND:20150327T030000Z
X-MICROSOFT-CDO-ALLDAYEVENT:FALSE
SUMMARY:Boys & Girls Club Steak & Burger Dinner Fundraiser
DESCRIPTION:Sponsor a table and enjoy a delicious dinner 4 guests to a table. The adults get burgers the kids get steak! Also join in on fun games and prizes like are you smarter then a 5th grader against the kids of the Boys & Girls Club!\nContact :	Laura Ward\nPhone :	209-549-2765\nEmail :	\nWeb Site :
X-ALT-DESC;FMTTYPE=text/html:	Sponsor a table and enjoy a delicious dinner 4 guests to a table. The adults get burgers the kids get steak! Also join in on fun games and prizes like are you smarter then a 5th grader against the kids of the Boys & Girls Club!\nContact :	Laura Ward\nPhone :	209-549-2765\nEmail :	\nWeb Site :	
LOCATION:The Century Event Center 927 10th Street Modesto\, CA 95354
UID:e.2695.820
SEQUENCE:3
DTSTAMP:20260420T074223Z
URL:https://business.modchamber.org/events/details/boys-girls-club-steak-burger-dinner-fundraiser-03-26-2015-820
END:VEVENT

END:VCALENDAR
