BEGIN:VCALENDAR
VERSION:2.0
PRODID:-//ChamberMaster//Event Calendar 2.0//EN
METHOD:PUBLISH
X-PUBLISHED-TTL:P3D
REFRESH-INTERVAL:P3D
CALSCALE:GREGORIAN
BEGIN:VEVENT
DTSTART:20150719T010000Z
DTEND:20150719T023000Z
X-MICROSOFT-CDO-ALLDAYEVENT:FALSE
SUMMARY:Boys and Girls Club of Stanislaus County meet The Nuts!
DESCRIPTION:BOYS & GIRLS CLUB OF STANISLAUS COUNTY MEETS THE MODESTO NUTS!\n\n\n\n \n\n\n 		The details:\n\nSaturday\,  July 18 \nJohn Thurman Field\n\nDinner 6:00pm -7:30pm\n on the Party Deck!\n\nMenu: Tri-tip\, hot dogs\, pasta salad\, baked beans\, soft drinks and water\n\n\nEnjoy the ballgame between the Modesto Nuts & Lake Elsinore\n\n\nThe NUTS players will be wearing specialty jerseys that will be auctioned off with all proceeds to \nbenefit BGCSTAN\nThere are only 100 tickets @$50 each. Order yours NOW! Support this fund raiser! 100% of your donation will support BGCSTAN.  Make your check payable to Boys & Girls Club of Stanislaus County and mail to:\n\n\nJanine McClanahan\n1500 Christiansen Drive\n Modesto\, CA  95355
X-ALT-DESC;FMTTYPE=text/html:BOYS & GIRLS CLUB OF STANISLAUS COUNTY MEETS THE MODESTO NUTS!\n\n\n\n \n\n\n 		The details:\n\nSaturday\,  July 18 \nJohn Thurman Field\n\nDinner 6:00pm -7:30pm\n on the Party Deck!\n\nMenu: Tri-tip\, hot dogs\, pasta salad\, baked beans\, soft drinks and water\n\n\nEnjoy the ballgame between the Modesto Nuts & Lake Elsinore\n\n\nThe NUTS players will be wearing specialty jerseys that will be auctioned off with all proceeds to \nbenefit BGCSTAN\nThere are only 100 tickets @$50 each. Order yours NOW! Support this fund raiser! 100% of your donation will support BGCSTAN.  Make your check payable to Boys & Girls Club of Stanislaus County and mail to:\n\n\nJanine McClanahan\n1500 Christiansen Drive\n Modesto\, CA  95355\n
LOCATION:John Thurman Field 601 Neece Dr Modesto\, CA 95351
UID:e.2695.1155
SEQUENCE:3
DTSTAMP:20260420T032202Z
URL:https://business.modchamber.org/events/details/boys-and-girls-club-of-stanislaus-county-meet-the-nuts-07-18-2015-1155
END:VEVENT

END:VCALENDAR
