BEGIN:VCALENDAR
VERSION:2.0
PRODID:-//ChamberMaster//Event Calendar 2.0//EN
METHOD:PUBLISH
X-PUBLISHED-TTL:P3D
REFRESH-INTERVAL:P3D
CALSCALE:GREGORIAN
BEGIN:VEVENT
DTSTART:20151010T000000Z
DTEND:20151009T070000Z
X-MICROSOFT-CDO-ALLDAYEVENT:FALSE
SUMMARY:Boys And Girls Club Battle of the Paddle
DESCRIPTION:Teams will go to battle on ping pong tables for championship bragging rights! Funseekers can try their hand at darts\, play a variety of competitive and non-competitive games and activities\, or just enjoy the art display featuring work by our Club Kids. This casual evening of relaxation will rejuvenate the child in you. And the food and bar stations will allow you to refuel and stay in the game. Come out and have FUN! Better yet\, participate as a featured\, table or paddle sponsor in support of an amazing event benefiting the youth of Stanislaus County.\n\n$100.00 a ticket\nContact :	Laura Ward\nPhone :	209-549-2765\nEmail :	\nWeb Site :	www.bgcstanislaus.org
X-ALT-DESC;FMTTYPE=text/html:	Teams will go to battle on ping pong tables for championship bragging rights! Funseekers can try their hand at darts\, play a variety of competitive and non-competitive games and activities\, or just enjoy the art display featuring work by our Club Kids. This casual evening of relaxation will rejuvenate the child in you. And the food and bar stations will allow you to refuel and stay in the game. Come out and have FUN! Better yet\, participate as a featured\, table or paddle sponsor in support of an amazing event benefiting the youth of Stanislaus County.\n\n$100.00 a ticket\nContact :	Laura Ward\nPhone :	209-549-2765\nEmail :	\nWeb Site :	www.bgcstanislaus.org
LOCATION:Centre Plaza 1000 L St Modesto\, CA 95354
UID:e.2695.1099
SEQUENCE:3
DTSTAMP:20260419T214924Z
URL:https://business.modchamber.org/events/details/boys-and-girls-club-battle-of-the-paddle-10-09-2015-1099
END:VEVENT

END:VCALENDAR
