BEGIN:VCALENDAR
VERSION:2.0
PRODID:-//ChamberMaster//Event Calendar 2.0//EN
METHOD:PUBLISH
X-PUBLISHED-TTL:P3D
REFRESH-INTERVAL:P3D
CALSCALE:GREGORIAN
BEGIN:VEVENT
DTSTART:20150521T023000Z
DTEND:20150520T070000Z
X-MICROSOFT-CDO-ALLDAYEVENT:FALSE
SUMMARY:Bonnie Raitt - NOW SOLD OUT!
DESCRIPTION:Best-selling artist\, respected guitarist\, expressive singer\, and accomplished songwriter Bonnie Raitt is bringing her Slipstream Tour to the Center\, celebrating her first studio recording in seven years and her 19th album overall\, “Slipstream.” It delivers some of the most surprising and rewarding music of her remarkable career. Bonnie is an institution in American music\, of course. The ten-time Grammy winner was named one of the "100 Greatest Singers of All Time" by Rolling Stone Magazine\, and her incredible hits include “Something to Talk About\,” I Can’t Make You Love Me” and "Love Sneakin' Up On You."\nContact :	Gallo Center\nPhone :	209-338-2100\nEmail :	\nWeb Site :	galloarts.org
X-ALT-DESC;FMTTYPE=text/html:	Best-selling artist\, respected guitarist\, expressive singer\, and accomplished songwriter Bonnie Raitt is bringing her Slipstream Tour to the Center\, celebrating her first studio recording in seven years and her 19th album overall\, “Slipstream.” It delivers some of the most surprising and rewarding music of her remarkable career. Bonnie is an institution in American music\, of course. The ten-time Grammy winner was named one of the "100 Greatest Singers of All Time" by Rolling Stone Magazine\, and her incredible hits include “Something to Talk About\,” I Can’t Make You Love Me” and "Love Sneakin' Up On You."\nContact :	Gallo Center\nPhone :	209-338-2100\nEmail :	\nWeb Site :	galloarts.org
LOCATION:Gallo Center 1000 I ST Modesto\, CA 95354
UID:e.2695.940
SEQUENCE:3
DTSTAMP:20260420T062443Z
URL:https://business.modchamber.org/events/details/bonnie-raitt-now-sold-out-05-20-2015-940
END:VEVENT

END:VCALENDAR
