BEGIN:VCALENDAR
VERSION:2.0
PRODID:-//ChamberMaster//Event Calendar 2.0//EN
METHOD:PUBLISH
X-PUBLISHED-TTL:P3D
REFRESH-INTERVAL:P3D
CALSCALE:GREGORIAN
BEGIN:VEVENT
DTSTART:20151016T023000Z
DTEND:20151015T070000Z
X-MICROSOFT-CDO-ALLDAYEVENT:FALSE
SUMMARY:BOLLYWOOD MASALA ORCHESTRA
DESCRIPTION:Direct from India!\nBOLLYWOOD MASALA ORCHESTRA & DANCERS\nRahis Bharti\, Artistic Director \n\nThe Bollywood Masala Orchestra and Dancers present "The Spirit of India\," a lively musical journey from Rajasthan to Mumbai which invites you into a world of music\, dance\, dynamic rhythm and spirituality that characterizes the incredible India of today. With 17 professional artists onstage\, the audience experiences a veritable feast of Indian sounds\, featuring a mix of Indian and Western instruments such as bass drums\, side drums\, trombone\, tabla\, dholak\, harmonium\, and clarinet\, among many others.\nContact :	Gallo Center\nPhone :	209-338-2100\nEmail :	\nWeb Site :	galloarts.org
X-ALT-DESC;FMTTYPE=text/html:Direct from India!\nBOLLYWOOD MASALA ORCHESTRA & DANCERS\nRahis Bharti\, Artistic Director \n\nThe Bollywood Masala Orchestra and Dancers present "The Spirit of India\," a lively musical journey from Rajasthan to Mumbai which invites you into a world of music\, dance\, dynamic rhythm and spirituality that characterizes the incredible India of today. With 17 professional artists onstage\, the audience experiences a veritable feast of Indian sounds\, featuring a mix of Indian and Western instruments such as bass drums\, side drums\, trombone\, tabla\, dholak\, harmonium\, and clarinet\, among many others.\nContact :	Gallo Center\nPhone :	209-338-2100\nEmail :	\nWeb Site :	galloarts.org
LOCATION:Gallo Center 1000 I St Modesto\, CA 95354
UID:e.2695.1226
SEQUENCE:3
DTSTAMP:20260419T214557Z
URL:https://business.modchamber.org/events/details/bollywood-masala-orchestra-10-15-2015-1226
END:VEVENT

END:VCALENDAR
