BEGIN:VCALENDAR
VERSION:2.0
PRODID:-//ChamberMaster//Event Calendar 2.0//EN
METHOD:PUBLISH
X-PUBLISHED-TTL:P3D
REFRESH-INTERVAL:P3D
CALSCALE:GREGORIAN
BEGIN:VEVENT
DTSTART:20151003T213000Z
DTEND:20151004T013000Z
X-MICROSOFT-CDO-ALLDAYEVENT:FALSE
SUMMARY:BluesBox Bayou Band
DESCRIPTION:Oysters & BBQ at Nino's along with the sounds of the BlueBox Bayou Band!\n\nContact :	Nino's Place.\nPhone :	209-578-6522\nEmail :	\nWeb Site :
X-ALT-DESC;FMTTYPE=text/html:	Oysters & BBQ at Nino's along with the sounds of the BlueBox Bayou Band!\n\nContact :	Nino's Place.\nPhone :	209-578-6522\nEmail :	\nWeb Site :	
LOCATION:Nino's Place 5219 McHenry Ave Modesto\, CA 95356
UID:e.2695.1209
SEQUENCE:3
DTSTAMP:20260419T214558Z
URL:https://business.modchamber.org/events/details/bluesbox-bayou-band-10-03-2015-1209
END:VEVENT

END:VCALENDAR
