BEGIN:VCALENDAR
VERSION:2.0
PRODID:-//ChamberMaster//Event Calendar 2.0//EN
METHOD:PUBLISH
X-PUBLISHED-TTL:P3D
REFRESH-INTERVAL:P3D
CALSCALE:GREGORIAN
BEGIN:VEVENT
DTSTART:20160410T010000Z
DTEND:20160409T070000Z
X-MICROSOFT-CDO-ALLDAYEVENT:FALSE
SUMMARY:Blue Man Group
DESCRIPTION:Blue Man Group is best known for their wildly popular theatrical shows and concerts which combine music\, comedy and multimedia theatrics to produce a totally unique form of entertainment. Although it is impossible to describe\, people of all ages agree that Blue Man Group's show is an intensely exciting and wildly outrageous experience that leaves the entire audience in a blissful\, euphoric state. With no spoken language\, Blue Man Group is perfect for people of all ages\, languages\, and cultures. This unique theatrical experience is a form of entertainment like nothing else\, guaranteed to be an outing you will never forget!\nContact :	Gallo Center\nPhone :	209-338-3102\nEmail :	\nWeb Site :	galloarts.org
X-ALT-DESC;FMTTYPE=text/html:Blue Man Group is best known for their wildly popular theatrical shows and concerts which combine music\, comedy and multimedia theatrics to produce a totally unique form of entertainment. Although it is impossible to describe\, people of all ages agree that Blue Man Group's show is an intensely exciting and wildly outrageous experience that leaves the entire audience in a blissful\, euphoric state. With no spoken language\, Blue Man Group is perfect for people of all ages\, languages\, and cultures. This unique theatrical experience is a form of entertainment like nothing else\, guaranteed to be an outing you will never forget!\nContact :	Gallo Center\nPhone :	209-338-3102\nEmail :	\nWeb Site :	galloarts.org
LOCATION:Gallo Center 1000 I St Modesto\, CA 95354
UID:e.2695.1360
SEQUENCE:3
DTSTAMP:20260419T140709Z
URL:https://business.modchamber.org/events/details/blue-man-group-04-09-2016-1360
END:VEVENT

END:VCALENDAR
