BEGIN:VCALENDAR
VERSION:2.0
PRODID:-//ChamberMaster//Event Calendar 2.0//EN
METHOD:PUBLISH
X-PUBLISHED-TTL:P3D
REFRESH-INTERVAL:P3D
CALSCALE:GREGORIAN
BEGIN:VEVENT
DTSTART:20160409T030000Z
DTEND:20160408T070000Z
X-MICROSOFT-CDO-ALLDAYEVENT:FALSE
SUMMARY:BLUE MAN GROUP
DESCRIPTION:Blue Man Group is comedy\, theater\, rock concert and dance party all rolled into one. This wildly popular phenomenon delivers an unforgettable multi-sensory experience. It’s an outrageous evening of entertainment you’ll never forget. Don’t miss the show that has captivated 35 million people worldwide. \n\nBlue Man Group - enemy of monotony\, remedy for boredom\, promoter of overjoy and elation. DARE TO LIVE IN FULL COLOR.\nContact :	Gallo Center\nPhone :	209-338-2100\nEmail :	\nWeb Site :	galloarts.org
X-ALT-DESC;FMTTYPE=text/html:Blue Man Group is comedy\, theater\, rock concert and dance party all rolled into one. This wildly popular phenomenon delivers an unforgettable multi-sensory experience. It’s an outrageous evening of entertainment you’ll never forget. Don’t miss the show that has captivated 35 million people worldwide. \n\nBlue Man Group - enemy of monotony\, remedy for boredom\, promoter of overjoy and elation. DARE TO LIVE IN FULL COLOR.\nContact :	Gallo Center\nPhone :	209-338-2100\nEmail :	\nWeb Site :	galloarts.org
LOCATION:Gallo Center 1000 I Street Modesto\, CA 95354
UID:e.2695.1476
SEQUENCE:3
DTSTAMP:20260419T140710Z
URL:https://business.modchamber.org/events/details/blue-man-group-04-08-2016-1476
END:VEVENT

END:VCALENDAR
