BEGIN:VCALENDAR
VERSION:2.0
PRODID:-//ChamberMaster//Event Calendar 2.0//EN
METHOD:PUBLISH
X-PUBLISHED-TTL:P3D
REFRESH-INTERVAL:P3D
CALSCALE:GREGORIAN
BEGIN:VEVENT
DTSTART:20141026T160000Z
DTEND:20141026T190000Z
X-MICROSOFT-CDO-ALLDAYEVENT:FALSE
SUMMARY:BLS Renewal course in Manteca
DESCRIPTION:The BLS for Healthcare Providers is for people renewing or taking the class for the first time! Thisclass is for people that study or work in the medical field. \nIf you are a dentist\, you will receive CE credits\, please ask the instructor when you come to class.
X-ALT-DESC;FMTTYPE=text/html:The BLS for Healthcare Providers is for people renewing or taking the class for the first time! Thisclass is for people that study or work in the medical field. \nIf you are a dentist\, you will receive CE credits\, please ask the instructor when you come to class.
LOCATION:Manteca CPR Classes 620 East Yosemite ave. Manteca\, CA 95336
UID:e.2695.575
SEQUENCE:3
DTSTAMP:20260422T175942Z
URL:https://business.modchamber.org/events/details/bls-renewal-course-in-manteca-10-26-2014-575
END:VEVENT

END:VCALENDAR
