BEGIN:VCALENDAR
VERSION:2.0
PRODID:-//ChamberMaster//Event Calendar 2.0//EN
METHOD:PUBLISH
X-PUBLISHED-TTL:P3D
REFRESH-INTERVAL:P3D
CALSCALE:GREGORIAN
BEGIN:VEVENT
DTSTART:20140926T160000Z
DTEND:20140926T190000Z
X-MICROSOFT-CDO-ALLDAYEVENT:FALSE
SUMMARY:BLS Renewal Class in Manteca
DESCRIPTION:Are you a dentist\, doctor\, medial student or working in the medical field? Then the BLS for Healthcare Providers class is the right one for you.\n\nYou can also take this class if you are renewing it.Don't worry\, we will make sure that the 3 hours are not bored! We want you to learn all the new updates from the American Heart Association and have a pleasant and informative class!
X-ALT-DESC;FMTTYPE=text/html:Are you a dentist\, doctor\, medial student or working in the medical field? Then the BLS for Healthcare Providers class is the right one for you.\n\nYou can also take this class if you are renewing it.Don't worry\, we will make sure that the 3 hours are not bored! We want you to learn all the new updates from the American Heart Association and have a pleasant and informative class!
LOCATION:Manteca CPR Classes 620 East Yosemite ave. Manteca\, CA 95336
UID:e.2695.569
SEQUENCE:3
DTSTAMP:20260422T180616Z
URL:https://business.modchamber.org/events/details/bls-renewal-class-in-manteca-09-26-2014-569
END:VEVENT

END:VCALENDAR
