BEGIN:VCALENDAR
VERSION:2.0
PRODID:-//ChamberMaster//Event Calendar 2.0//EN
METHOD:PUBLISH
X-PUBLISHED-TTL:P3D
REFRESH-INTERVAL:P3D
CALSCALE:GREGORIAN
BEGIN:VEVENT
DTSTART:20150103T230000Z
DTEND:20150104T020000Z
X-MICROSOFT-CDO-ALLDAYEVENT:FALSE
SUMMARY:BLS Recertification class in Manteca
DESCRIPTION:The BLS for Healthcare Providers is for people renewing or taking the class for the first time! Thisclass is for people that study or work in the medical field. \nIf you are a dentist\, you will receive CE credits\, please ask the instructor when you come to class.
X-ALT-DESC;FMTTYPE=text/html:The BLS for Healthcare Providers is for people renewing or taking the class for the first time! Thisclass is for people that study or work in the medical field. \nIf you are a dentist\, you will receive CE credits\, please ask the instructor when you come to class.
LOCATION:Manteca CPR Classes 620 East Yosemite ave. Manteca\, CA 95336
UID:e.2695.666
SEQUENCE:3
DTSTAMP:20260422T121324Z
URL:https://business.modchamber.org/events/details/bls-recertification-class-in-manteca-01-03-2015-666
END:VEVENT

END:VCALENDAR
