BEGIN:VCALENDAR
VERSION:2.0
PRODID:-//ChamberMaster//Event Calendar 2.0//EN
METHOD:PUBLISH
X-PUBLISHED-TTL:P3D
REFRESH-INTERVAL:P3D
CALSCALE:GREGORIAN
BEGIN:VEVENT
DTSTART:20140616T220000Z
DTEND:20140617T010000Z
X-MICROSOFT-CDO-ALLDAYEVENT:FALSE
SUMMARY:BLS for Healthcare Providers CPR
DESCRIPTION:Are you a dentist\, doctor\, medial student or working on the medical field? Then the BLS for Healthcare Providers class is the right one for you.\n\nIf you have take the BLS class and need to renew it\,you can also take this class! Don't worry\, we will make sure that the 3 hours are not bored! We want you to learn all the new updates from the American Heart Association and have a pleasant and informative class!\n\nTo register please go to our website: http://www.cprseminars.com/course-catalog/bls-for-hcp/
X-ALT-DESC;FMTTYPE=text/html:Are you a dentist\, doctor\, medial student or working on the medical field? Then the BLS for Healthcare Providers class is the right one for you.\n\nIf you have take the BLS class and need to renew it\,you can also take this class! Don't worry\, we will make sure that the 3 hours are not bored! We want you to learn all the new updates from the American Heart Association and have a pleasant and informative class!\n\nTo register please go to our website: http://www.cprseminars.com/course-catalog/bls-for-hcp/
LOCATION:Manteca CPR Classes 620 East Yosemite ave. Manteca\, CA 95336
UID:e.2695.484
SEQUENCE:3
DTSTAMP:20260423T001914Z
URL:https://business.modchamber.org/events/details/bls-for-healthcare-providers-cpr-06-16-2014-484
END:VEVENT

END:VCALENDAR
