BEGIN:VCALENDAR
VERSION:2.0
PRODID:-//ChamberMaster//Event Calendar 2.0//EN
METHOD:PUBLISH
X-PUBLISHED-TTL:P3D
REFRESH-INTERVAL:P3D
CALSCALE:GREGORIAN
BEGIN:VEVENT
DTSTART:20140701T010000Z
DTEND:20140701T040000Z
X-MICROSOFT-CDO-ALLDAYEVENT:FALSE
SUMMARY:BLS for Healthcare Providers Class near Modesto
DESCRIPTION:The American Heart Association Basic Life Support for the Healthcare Provider (BLS-HCP) CPR class covers CPR for all age groups\, choke-saving\, AED use\, 2 person CPR\, bag valve mask\, pocket mask & rescue breathing. This course is for renewing\, recertification\, or initial students.\nTo register and for more information\, please visit our website: http://www.cprseminars.com/course-catalog/bls-for-hcp/
X-ALT-DESC;FMTTYPE=text/html:The American Heart Association Basic Life Support for the Healthcare Provider (BLS-HCP) CPR class covers CPR for all age groups\, choke-saving\, AED use\, 2 person CPR\, bag valve mask\, pocket mask & rescue breathing. This course is for renewing\, recertification\, or initial students.\nTo register and for more information\, please visit our website: http://www.cprseminars.com/course-catalog/bls-for-hcp/
LOCATION:620 East Yosemite ave. Manteca\, CA 95336
UID:e.2695.419
SEQUENCE:3
DTSTAMP:20260423T002934Z
URL:https://business.modchamber.org/events/details/bls-for-healthcare-providers-class-near-modesto-06-30-2014-419
END:VEVENT

END:VCALENDAR
