BEGIN:VCALENDAR
VERSION:2.0
PRODID:-//ChamberMaster//Event Calendar 2.0//EN
METHOD:PUBLISH
X-PUBLISHED-TTL:P3D
REFRESH-INTERVAL:P3D
CALSCALE:GREGORIAN
BEGIN:VEVENT
DTSTART:20140718T160000Z
DTEND:20140718T190000Z
X-MICROSOFT-CDO-ALLDAYEVENT:FALSE
SUMMARY:BLS CPR Training near Modesto
DESCRIPTION:The BLS for Healthcare Providers is for people renewing or taking the class for the first time! Thisclass is for people that study or work in the medical field. \nIf you are a dentist\, you will receive CE credits\, please ask the instructor when you come to class.\n\nThe BLS class is 3 hours long\, we will make sure that you get your CPR practice and all the updated information from the American Heart Association.\n\nhttp://www.cprseminars.com/course-catalog/bls-for-hcp/
X-ALT-DESC;FMTTYPE=text/html:The BLS for Healthcare Providers is for people renewing or taking the class for the first time! Thisclass is for people that study or work in the medical field. \nIf you are a dentist\, you will receive CE credits\, please ask the instructor when you come to class.\n\nThe BLS class is 3 hours long\, we will make sure that you get your CPR practice and all the updated information from the American Heart Association.\n\nhttp://www.cprseminars.com/course-catalog/bls-for-hcp/
LOCATION:Manteca CPR Classes 620 East Yosemite ave. Manteca\, CA 95336
UID:e.2695.517
SEQUENCE:3
DTSTAMP:20260422T223810Z
URL:https://business.modchamber.org/events/details/bls-cpr-training-near-modesto-07-18-2014-517
END:VEVENT

END:VCALENDAR
