BEGIN:VCALENDAR
VERSION:2.0
PRODID:-//ChamberMaster//Event Calendar 2.0//EN
METHOD:PUBLISH
X-PUBLISHED-TTL:P3D
REFRESH-INTERVAL:P3D
CALSCALE:GREGORIAN
BEGIN:VEVENT
DTSTART:20150926T150000Z
DTEND:20150927T000000Z
X-MICROSOFT-CDO-ALLDAYEVENT:FALSE
SUMMARY:Blast from the Past 4 Car Show
DESCRIPTION:Live Band: Three on the Tree\n\nFood: Taco & Pizza truck\n\nPinstriper on hand\n\nTrophies\, Vendors & Raffle\nBeach cruiser & custom made BBQ\n\nREGISTRATION IS $20.00\nFREE to spectators\nContact :	\nPhone :	\nEmail :	\nWeb Site :
X-ALT-DESC;FMTTYPE=text/html:	Live Band: Three on the Tree\n\nFood: Taco & Pizza truck\n\nPinstriper on hand\n\nTrophies\, Vendors & Raffle\nBeach cruiser & custom made BBQ\n\nREGISTRATION IS $20.00\nFREE to spectators\nContact :	\nPhone :	\nEmail :	\nWeb Site :	
LOCATION:451 Glass Lane Modesto\, CA 95356
UID:e.2695.1078
SEQUENCE:3
DTSTAMP:20260419T231714Z
URL:https://business.modchamber.org/events/details/blast-from-the-past-4-car-show-09-26-2015-1078
END:VEVENT

END:VCALENDAR
