BEGIN:VCALENDAR
VERSION:2.0
PRODID:-//ChamberMaster//Event Calendar 2.0//EN
METHOD:PUBLISH
X-PUBLISHED-TTL:P3D
REFRESH-INTERVAL:P3D
CALSCALE:GREGORIAN
BEGIN:VEVENT
DTSTART:20160304T030000Z
DTEND:20160303T080000Z
X-MICROSOFT-CDO-ALLDAYEVENT:FALSE
SUMMARY:Black in America\, the Movie
DESCRIPTION:Please join us\, and please invite your students to attend. The event is free and open to the public.\n\nThis conversation continues last semester’s discussion about the difficulties faced by young African-American men\, especially given the growing tensions in today’s society between the police and communities of color.\nContact : 	Jason Wohlstadter\, English Professor\nPhone : 	209.575.6180\nEmail : 	\nWeb Site :
X-ALT-DESC;FMTTYPE=text/html:Please join us\, and please invite your students to attend. The event is free and open to the public.\n\nThis conversation continues last semester’s discussion about the difficulties faced by young African-American men\, especially given the growing tensions in today’s society between the police and communities of color.\nContact : 	Jason Wohlstadter\, English Professor\nPhone : 	209.575.6180\nEmail : 	\nWeb Site :
LOCATION:MJC\, East Campus 435 College Ave Modesto\, CA 95350
UID:e.2695.1560
SEQUENCE:3
DTSTAMP:20260419T154629Z
URL:https://business.modchamber.org/events/details/black-in-america-the-movie-03-03-2016-1560
END:VEVENT

END:VCALENDAR
