BEGIN:VCALENDAR
VERSION:2.0
PRODID:-//ChamberMaster//Event Calendar 2.0//EN
METHOD:PUBLISH
X-PUBLISHED-TTL:P3D
REFRESH-INTERVAL:P3D
CALSCALE:GREGORIAN
BEGIN:VEVENT
DTSTART:20160212T020000Z
DTEND:20160211T080000Z
X-MICROSOFT-CDO-ALLDAYEVENT:FALSE
SUMMARY:Black History Program
DESCRIPTION:The Annual Black History Program featuring musical entertainment and a musical salute to Black History in word\, song and historic Tribute Celebration.\nContact :	\nPhone :	209-568-3643\nEmail :	\nWeb Site :
X-ALT-DESC;FMTTYPE=text/html:The Annual Black History Program featuring musical entertainment and a musical salute to Black History in word\, song and historic Tribute Celebration.\nContact :	\nPhone :	209-568-3643\nEmail :	\nWeb Site :	\n
LOCATION:King Kennedy Memorial Center 601 Martin Luther King Dr Modesto\, CA 95351
UID:e.2695.1448
SEQUENCE:3
DTSTAMP:20260419T162953Z
URL:https://business.modchamber.org/events/details/black-history-program-02-11-2016-1448
END:VEVENT

END:VCALENDAR
