BEGIN:VCALENDAR
VERSION:2.0
PRODID:-//ChamberMaster//Event Calendar 2.0//EN
METHOD:PUBLISH
X-PUBLISHED-TTL:P3D
REFRESH-INTERVAL:P3D
CALSCALE:GREGORIAN
BEGIN:VEVENT
DTSTART:20150304T033000Z
DTEND:20150303T080000Z
X-MICROSOFT-CDO-ALLDAYEVENT:FALSE
SUMMARY:Billy Ocean
DESCRIPTION:Billy Ocean is one of the most prominent R&B stars to hail from the United Kingdom\, selling more 30 million records in his lifetime. Several of his songs from his multiple Gold and Platinum records were number one hits on the international pop charts. Among Billy's many hits are “Love Really Hurts without You\,” “Love on Delivery\,” “Stop Me\,” “Caribbean Queen (No More Love On The Run)\,” and of course the classic “Get Outta My Dreams\, Get Into My Car.”\nContact :	Gallo Center\nPhone :	209-338-2100\nEmail :	\nWeb Site :	galloarts.org
X-ALT-DESC;FMTTYPE=text/html:Billy Ocean is one of the most prominent R&B stars to hail from the United Kingdom\, selling more 30 million records in his lifetime. Several of his songs from his multiple Gold and Platinum records were number one hits on the international pop charts. Among Billy's many hits are “Love Really Hurts without You\,” “Love on Delivery\,” “Stop Me\,” “Caribbean Queen (No More Love On The Run)\,” and of course the classic “Get Outta My Dreams\, Get Into My Car.”\nContact :	Gallo Center\nPhone :	209-338-2100\nEmail :	\nWeb Site :	galloarts.org\n
LOCATION:Gallo Center 1000 I Street Modesto\, CA 95354
UID:e.2695.778
SEQUENCE:3
DTSTAMP:20260420T073524Z
URL:https://business.modchamber.org/events/details/billy-ocean-03-03-2015-778
END:VEVENT

END:VCALENDAR
