BEGIN:VCALENDAR
VERSION:2.0
PRODID:-//ChamberMaster//Event Calendar 2.0//EN
METHOD:PUBLISH
X-PUBLISHED-TTL:P3D
REFRESH-INTERVAL:P3D
CALSCALE:GREGORIAN
BEGIN:VEVENT
DTSTART:20160307T030000Z
DTEND:20160306T080000Z
X-MICROSOFT-CDO-ALLDAYEVENT:FALSE
SUMMARY:BILL MAHER
DESCRIPTION:For more than 20 years\, Bill Maher has set the boundaries of where funny\, political talk can go on American TV. First on “Politically Incorrect” (Comedy Central and ABC-TV) and for the last thirteen years on “Real Time" (HBO)\, Maher’s unflinching honesty and big laughs have garnered him 34 Emmy nominations. He started his career as a stand-up comedian in 1979\, and still performs at least fifty dates all across the country each year. Three of Maher’s 10 stand-up specials for HBO have been nominated for Emmy Awards. Adult themes.
X-ALT-DESC;FMTTYPE=text/html:For more than 20 years\, Bill Maher has set the boundaries of where funny\, political talk can go on American TV. First on “Politically Incorrect” (Comedy Central and ABC-TV) and for the last thirteen years on “Real Time" (HBO)\, Maher’s unflinching honesty and big laughs have garnered him 34 Emmy nominations. He started his career as a stand-up comedian in 1979\, and still performs at least fifty dates all across the country each year. Three of Maher’s 10 stand-up specials for HBO have been nominated for Emmy Awards. Adult themes.
LOCATION:Gallo Center 1000 I Street Modesto\, CA 95354
UID:e.2695.1539
SEQUENCE:3
DTSTAMP:20260419T152323Z
URL:https://business.modchamber.org/events/details/bill-maher-03-06-2016-1539
END:VEVENT

END:VCALENDAR
