BEGIN:VCALENDAR
VERSION:2.0
PRODID:-//ChamberMaster//Event Calendar 2.0//EN
METHOD:PUBLISH
X-PUBLISHED-TTL:P3D
REFRESH-INTERVAL:P3D
CALSCALE:GREGORIAN
BEGIN:VEVENT
DTSTART:20160320T000000Z
DTEND:20160320T030000Z
X-MICROSOFT-CDO-ALLDAYEVENT:FALSE
SUMMARY:BILL ENGVALL
DESCRIPTION:Bill (“Here’s Your Sign”) Engvall is one of the top comedians today and among the busiest. He was of course part of the enormously successful Blue Collar Comedy concert films\, which have sold more than nine million copies and are some of the most watched movies and specials in Comedy Central history. Bill’s own recordings have dominated the comedy charts with gold and platinum best sellers. In 1992\, he won the American Comedy Award for “Best Male Stand-up Comedian.”\nContact :	Gallo Center\nPhone :	209-338-2100\nEmail :	\nWeb Site :	galloarts.org
X-ALT-DESC;FMTTYPE=text/html:Bill (“Here’s Your Sign”) Engvall is one of the top comedians today and among the busiest. He was of course part of the enormously successful Blue Collar Comedy concert films\, which have sold more than nine million copies and are some of the most watched movies and specials in Comedy Central history. Bill’s own recordings have dominated the comedy charts with gold and platinum best sellers. In 1992\, he won the American Comedy Award for “Best Male Stand-up Comedian.”\nContact :	Gallo Center\nPhone :	209-338-2100\nEmail :	\nWeb Site :	galloarts.org
LOCATION:Gallo Center 1000 I Street Modesto\, CA 95354
UID:e.2695.1471
SEQUENCE:3
DTSTAMP:20260419T153048Z
URL:https://business.modchamber.org/events/details/bill-engvall-03-19-2016-1471
END:VEVENT

END:VCALENDAR
