BEGIN:VCALENDAR
VERSION:2.0
PRODID:-//ChamberMaster//Event Calendar 2.0//EN
METHOD:PUBLISH
X-PUBLISHED-TTL:P3D
REFRESH-INTERVAL:P3D
CALSCALE:GREGORIAN
BEGIN:VEVENT
DTSTART:20141106T190000Z
DTEND:20141108T020000Z
X-MICROSOFT-CDO-ALLDAYEVENT:FALSE
SUMMARY:Biggest Sales Event of the Year
DESCRIPTION:We will be bringing in over a million dollars worth of new bridal jewelry!\nNot only this\, we will be paying your sales tax\, or 12 months no interest financing!!
X-ALT-DESC;FMTTYPE=text/html:We will be bringing in over a million dollars worth of new bridal jewelry!\nNot only this\, we will be paying your sales tax\, or 12 months no interest financing!!
LOCATION:Gabriel Fine Jewelers 1700 McHenry Ave. Suite 27 Modesto\, CA 95350
UID:e.2695.596
SEQUENCE:3
DTSTAMP:20260422T154336Z
URL:https://business.modchamber.org/events/details/biggest-sales-event-of-the-year-11-06-2014-596
END:VEVENT

END:VCALENDAR
