BEGIN:VCALENDAR
VERSION:2.0
PRODID:-//ChamberMaster//Event Calendar 2.0//EN
METHOD:PUBLISH
X-PUBLISHED-TTL:P3D
REFRESH-INTERVAL:P3D
CALSCALE:GREGORIAN
BEGIN:VEVENT
DTSTART:20150510T020000Z
DTEND:20150509T070000Z
X-MICROSOFT-CDO-ALLDAYEVENT:FALSE
SUMMARY:Big Sam's Funky Nation Party Gras
DESCRIPTION:Join The State for a wild Party Gras with beads for all when we welcome the undisputed masters of urban funk\, Big Sam’s Funky Nation\, featuring trombone powerhouse Big Sam Williams. Formerly with the Dirty Dozen Brass Band\, Sam’s been called the “top man on the slide trombone in the birthplace of jazz\,” by the S.F. Chronicle. This stellar group of world-class musicians is fronted by a horn section that’s the hallmark of big band funk. Coupled with Sam’s signature dance moves and his trombone riffs\, this is a high-voltage show that refuses to leave you sitting in your seat! So get ready for The States’ first Party Gras that includes buying the city’s best “Q” at the door where Doc’s Q N Pit will be serving Doc’s now-famous ribs and sides. Then don your beads and get ready to party like they do down in the Big Easy!\nContact :	The State Theatre\nPhone :	BOX OFFICE (209) 527-4697\nEmail :	\nWeb Site :	thestate.org
X-ALT-DESC;FMTTYPE=text/html:Join The State for a wild Party Gras with beads for all when we welcome the undisputed masters of urban funk\, Big Sam’s Funky Nation\, featuring trombone powerhouse Big Sam Williams. Formerly with the Dirty Dozen Brass Band\, Sam’s been called the “top man on the slide trombone in the birthplace of jazz\,” by the S.F. Chronicle. This stellar group of world-class musicians is fronted by a horn section that’s the hallmark of big band funk. Coupled with Sam’s signature dance moves and his trombone riffs\, this is a high-voltage show that refuses to leave you sitting in your seat! So get ready for The States’ first Party Gras that includes buying the city’s best “Q” at the door where Doc’s Q N Pit will be serving Doc’s now-famous ribs and sides. Then don your beads and get ready to party like they do down in the Big Easy!\nContact :	The State Theatre\nPhone :	BOX OFFICE (209) 527-4697\nEmail :	\nWeb Site :	thestate.org
LOCATION:State Theatre 1307 J St Modesto\, CA 95354
UID:e.2695.926
SEQUENCE:3
DTSTAMP:20260420T045642Z
URL:https://business.modchamber.org/events/details/big-sam-s-funky-nation-party-gras-05-09-2015-926
END:VEVENT

END:VCALENDAR
