BEGIN:VCALENDAR
VERSION:2.0
PRODID:-//ChamberMaster//Event Calendar 2.0//EN
METHOD:PUBLISH
X-PUBLISHED-TTL:P3D
REFRESH-INTERVAL:P3D
CALSCALE:GREGORIAN
BEGIN:VEVENT
DTSTART:20160117T033000Z
DTEND:20160116T080000Z
X-MICROSOFT-CDO-ALLDAYEVENT:FALSE
SUMMARY:BIG EARL & THE CRYING SHAME
DESCRIPTION:Last year\, in the space of 10 months\, Big Earl & The Cryin' Shame went from stealing the show when they opened at B. B. King's concert to their own sold out performance at the Gallo Center! It's a no-brainer to bring 'em back. So come on on out and enjoy this terrific local band that fuses 50s-style Chicago blues with infectious funk rhythms. Randall Niemann is on bass and Ian Stambaugh is on drums\, with Eli Lester and Jason Finley sharing guitar duties. And of course\, there's the big guy with the great big voice.\nContact :	Gallo Center\nPhone :	209-338-2100\nEmail :	\nWeb Site :	galloarts.org
X-ALT-DESC;FMTTYPE=text/html:Last year\, in the space of 10 months\, Big Earl & The Cryin' Shame went from stealing the show when they opened at B. B. King's concert to their own sold out performance at the Gallo Center! It's a no-brainer to bring 'em back. So come on on out and enjoy this terrific local band that fuses 50s-style Chicago blues with infectious funk rhythms. Randall Niemann is on bass and Ian Stambaugh is on drums\, with Eli Lester and Jason Finley sharing guitar duties. And of course\, there's the big guy with the great big voice.\nContact :	Gallo Center\nPhone :	209-338-2100\nEmail :	\nWeb Site :	galloarts.org
LOCATION:Gallo Center 1000 I St Modesto\, CA 95354
UID:e.2695.1341
SEQUENCE:3
DTSTAMP:20260419T174940Z
URL:https://business.modchamber.org/events/details/big-earl-the-crying-shame-01-16-2016-1341
END:VEVENT

END:VCALENDAR
