BEGIN:VCALENDAR
VERSION:2.0
PRODID:-//ChamberMaster//Event Calendar 2.0//EN
METHOD:PUBLISH
X-PUBLISHED-TTL:P3D
REFRESH-INTERVAL:P3D
CALSCALE:GREGORIAN
BEGIN:VEVENT
DTSTART:20150512T020000Z
DTEND:20150511T070000Z
X-MICROSOFT-CDO-ALLDAYEVENT:FALSE
SUMMARY:Big Daddy Weave
DESCRIPTION:Through more than a decade of hits including "In Christ\,” “Audience of One\,” "You're Worthy of My Praise\," “Every Time I Breathe\,” and "What Life Would Be Like\,” contemporary Christian band Big Daddy Weave has won the respect of fans\, press and industry alike. Comprised of Mike Weaver (lead singer)\, Jay Weaver\, Jeremy Redmon\, Joe Shirk\, and Brian Beihl\, their musical journey began with a Dove Awards nomination as New Artist of the Year in 2002 and includes a 2010 Dove Award for the album "Christ Has Come." Most recently\, they hit the top of the Christian adult contemporary chart with "Love Come to Life." Big Daddy Weave will be joined in this performance by Christian singer-songwriter Jason Gray\, rockers Citizen Way and Lauren Daigle.\nContact :	Gallo Center\nPhone :	209-338-2100\nEmail :	\nWeb Site :	galloarts.org
X-ALT-DESC;FMTTYPE=text/html:	Through more than a decade of hits including "In Christ\,” “Audience of One\,” "You're Worthy of My Praise\," “Every Time I Breathe\,” and "What Life Would Be Like\,” contemporary Christian band Big Daddy Weave has won the respect of fans\, press and industry alike. Comprised of Mike Weaver (lead singer)\, Jay Weaver\, Jeremy Redmon\, Joe Shirk\, and Brian Beihl\, their musical journey began with a Dove Awards nomination as New Artist of the Year in 2002 and includes a 2010 Dove Award for the album "Christ Has Come." Most recently\, they hit the top of the Christian adult contemporary chart with "Love Come to Life." Big Daddy Weave will be joined in this performance by Christian singer-songwriter Jason Gray\, rockers Citizen Way and Lauren Daigle.\nContact :	Gallo Center\nPhone :	209-338-2100\nEmail :	\nWeb Site :	galloarts.org
LOCATION:Gallo Center 1000 I St Modesto\, CA 95354
UID:e.2695.932
SEQUENCE:3
DTSTAMP:20260420T045217Z
URL:https://business.modchamber.org/events/details/big-daddy-weave-05-11-2015-932
END:VEVENT

END:VCALENDAR
